Workbook
Name _8: プルダウン用シート!$G$7:$G$16
Name _9: プルダウン用シート!$G$3:$G$6
Name 〇強度試験機器: 設備機器一覧!$C$3:$C$5
Name EMI試験: 設備機器一覧!#REF!
Name RFイミュニティ試験: 設備機器一覧!#REF!
Name すべての機器: 設備機器一覧!$C$2:$C$108
Name その他: 設備機器一覧!#REF!
Name デジタルマルチメータによるもの: 設備機器一覧!#REF!
Name ノイズ耐性試験: 設備機器一覧!#REF!
Name プリンタ3Dインクジェット式: 設備機器一覧!#REF!
Name プリンタ3D熱溶解積層法: 設備機器一覧!#REF!
Name モデリングマシン: 設備機器一覧!#REF!
Name 一般分析: 設備機器一覧!#REF!
Name 引っかき硬度･鉛筆法: 設備機器一覧!#REF!
Name 栄養成分分析: 設備機器一覧!#REF!
Name 荷重試験: 設備機器一覧!#REF!
Name 解析シミュレーション・CAE: 設備機器一覧!#REF!
Name 官能検査: 設備機器一覧!#REF!
Name 強〇度試験機器: 設備機器一覧!$C$3:$C$5
Name 強度試験機器: 設備機器一覧!$C$3:$C$5
Name 金属工作機械: 設備機器一覧!$C$62:$C$66
Name 金属材料摩耗試験: 設備機器一覧!#REF!
Name 金属試験: 設備機器一覧!#REF!
Name 金属組織試験: 設備機器一覧!#REF!
Name 減免率: プルダウン用シート!$A$2:$A$4
Name 抗菌試験: 設備機器一覧!#REF!
Name 硬度試験: 設備機器一覧!#REF!
Name 硬度試験機器: 設備機器一覧!$C$9:$C$11
Name 酵素試験: 設備機器一覧!#REF!
Name 細菌検査: 設備機器一覧!#REF!
Name 材料強度試験: 設備機器一覧!#REF!
Name 材料強度試験等: 設備機器一覧!#REF!
Name 材料試験等: 設備機器一覧!#REF!
Name 撮像検証システムによるもの: 設備機器一覧!#REF!
Name 三次元デジタイザによるもの: 設備機器一覧!#REF!
Name 三次元形状データ作成・CAD: 設備機器一覧!#REF!
Name 残留応力測定: 設備機器一覧!#REF!
Name 四半期1始: プルダウン用シート!$A$9
Name 四半期1終: プルダウン用シート!$A$10
Name 四半期2始: プルダウン用シート!$A$11
Name 四半期2終: プルダウン用シート!$A$12
Name 四半期3始: プルダウン用シート!$A$13
Name 四半期3終: プルダウン用シート!$A$14
Name 四半期4始: プルダウン用シート!$A$15
Name 四半期4終: プルダウン用シート!$A$16
Name 試験区分: 設備機器一覧!#REF!
Name 試験目的: 設備機器一覧!#REF!
Name 自動化技術支援: 設備機器一覧!#REF!
Name 自動化技術支援機器: 設備機器一覧!$C$81:$C$84
Name 焼結試験: 設備機器一覧!#REF!
Name 職員派遣: 設備機器一覧!#REF!
Name 食品の分析・試験等: 設備機器一覧!#REF!
Name 食品加工機器: 設備機器一覧!$C$104:$C$108
Name 食品加工試験機: 設備機器一覧!$C$93:$C$102
Name 食品等分析・観察機器: 設備機器一覧!$C$86:$C$91
Name 性能試験・長期性能試験: 設備機器一覧!#REF!
Name 成績書: 設備機器一覧!#REF!
Name 成績書交付: 設備機器一覧!#REF!
Name 精度試験: 設備機器一覧!#REF!
Name 精密測定・三次元測定機: 設備機器一覧!#REF!

Sheet 設備使用申請書【記入例】
B1: 決裁日 | H1: 令和 | N1: 年 | S1: 月 | X1: 日 | AE1: =プルダウン用シート!J1 -> ver8（R8.10.1）
B3: 【実施伺】本件、受諾してよろしいか。
B4: 副センター長 | F4: 部長 | K4: グループ長 | P4: グループ員 | AA4: 担当者
B10: 設備使用申請書
BE11: 今日の日付(参考）
AH13: 令和 | AK13: 8 | AN13: 年 | AP13: 10 | AS13: 月 | AU13: 1 | AX13: 日 | BE13: =YEAR(TODAY())-2018 -> 8 | BG13: =MONTH(TODAY()) -> 9 | BH13: =DAY(TODAY()) -> 28
C15: 茨城県産業技術イノベーションセンター長 殿
AI16: （〒） | AL16: 311-3195
AD18: 住 所 | AJ18: 茨城県東茨城郡茨城町長岡3781-1
C19: 記入例
AD20: 電話番号 | AJ20: 029-293-7212
AD22: 事業所名 | AJ22: 茨城県産業技術イノベーションセンター
AJ24: 代表取締役社長
AD26: 氏 名 | AJ26: 茨城 太郎
C27: ※本記入例を参考に設備使用申請書（別シート）に記入願います
C29: 次により，貴センターの設備を使用したいので，申請します。
C32: １．設備の名称 | M32: =設備機器一覧!L109
C35: ２．使用の目的 | M35: 製品の性能評価 | BE35: https://www.itic.pref.ibaraki.jp/facility/
C38: ３．使用数量 | M38: 〇個、〇個所、〇式、〇通りなど
C41: ４．使用期間 | M41: 令和 | Q41: 8 | S41: 年 | U41: 4 | W41: 月 | Y41: 1 | AA41: 日から令和 | AI41: 8 | AK41: 年 | AM41: 4 | AO41: 月 | AQ41: 1 | AS41: 日まで
AS43: (お昼休憩のため12時～13時は使用していない)
C44: （使用時間 | N44: 令和 | R44: 8 | T44: 年 | V44: 4 | X44: 月 | Z44: 1 | AB44: 日 | AE44: 10 | AH44: 時から | AL44: 14 | AO44: 時まで）
C48: 設備使用者連絡先 | M48: （１） | O48: 所属部署 | U48: ○○部○○課
M50: （２） | O50: 役職・氏名 | U50: 主任 ○○ ○○
M52: （３） | O52: TEL | U52: 029-293-7213
M54: （４） | O54: E-MAIL | U54: ××××＠○○○○.jp
U57: 以下センター職員記入欄
B58: 0 | H58: =IF(B58<>0,"()内の金額は減免前の金額です","")
B59: コードNo | H59: 設 備 機 器 名 | X59: 単 価 | AE59: 単位 | AJ59: 単位数 | AO59: 金 額 | AV59: 確 認 者 | BQ59: 設 備 名 | BR59: 単価 減免無し | BS59: コード 減免無し | BT59: 単価 50％減免 | BU59: コード 50％減免 | BV59: 単価 100％減免 | BW59: 単位
B61: =IF($B$58=0,BS61,IF($B$58=0.5,BU61,IF($B$58=1,"",""))) | H61: =IFERROR(BQ61,"") | X61: =IF($H61="","",IF($B$58=0,BR61,IF($B$58=0.5,BT61,IF($B$58=1,BV61,"")))) | AE61: =IF($H61="","",IF(BR61=0,0,BW61)) | AO61: =IF(AJ61="","",IFERROR(X61*AJ61,"")) | BN61: 1 | BQ61: =VLOOKUP(BN61,設備機器一覧!K:L,2,FALSE) -> #N/A | BR61: =IFERROR(VLOOKUP(BQ61,設備機器一覧!C:G,2,FALSE),0) -> 0 | BS61: =IFERROR(VLOOKUP(BQ61,設備機器一覧!C:G,3,FALSE),"") | BT61: =IFERROR(VLOOKUP(BQ61,設備機器一覧!C:G,4,FALSE),0) -> 0 | BU61: =IFERROR(VLOOKUP(BQ61,設備機器一覧!C:G,5,FALSE),"") | BV61: 0 | BW61: =IFERROR(VLOOKUP(BQ61,設備機器一覧!C:H,6,FALSE),"")
X63: ( | Y63: =IF($H61="","",IF($B$58=0,"",BR61)) | AD63: ) | AO63: ( | AP63: =IF(AJ61="","",IF($B$58=0,"",IFERROR(Y63*AJ61,""))) | AU63: )
B64: =IF($B$58=0,BS64,IF($B$58=0.5,BU64,IF($B$58=1,"",""))) | H64: =IFERROR(BQ64,"") | X64: =IF($H64="","",IF($B$58=0,BR64,IF($B$58=0.5,BT64,IF($B$58=1,BV64,"")))) | AE64: =IF($H64="","",IF(BR64=0,0,BW64)) | AO64: =IF(AJ64="","",IFERROR(X64*AJ64,"")) | BN64: 2 | BQ64: =VLOOKUP(BN64,設備機器一覧!K:L,2,FALSE) -> #N/A | BR64: =IFERROR(VLOOKUP(BQ64,設備機器一覧!C:G,2,FALSE),0) -> 0 | BS64: =IFERROR(VLOOKUP(BQ64,設備機器一覧!C:G,3,FALSE),"") | BT64: =IFERROR(VLOOKUP(BQ64,設備機器一覧!C:G,4,FALSE),0) -> 0 | BU64: =IFERROR(VLOOKUP(BQ64,設備機器一覧!C:G,5,FALSE),"") | BV64: 0 | BW64: =IFERROR(VLOOKUP(BQ64,設備機器一覧!C:H,6,FALSE),"")
X66: ( | Y66: =IF($H64="","",IF($B$58=0,"",BR64)) | AD66: ) | AO66: ( | AP66: =IF(AJ64="","",IF($B$58=0,"",IFERROR(Y66*AJ64,""))) | AU66: )
B67: =IF($B$58=0,BS67,IF($B$58=0.5,BU67,IF($B$58=1,"",""))) | H67: =IFERROR(BQ67,"") | X67: =IF($H67="","",IF($B$58=0,BR67,IF($B$58=0.5,BT67,IF($B$58=1,BV67,"")))) | AE67: =IF($H67="","",IF(BR67=0,0,BW67)) | AO67: =IF(AJ67="","",IFERROR(X67*AJ67,"")) | BN67: 3 | BQ67: =VLOOKUP(BN67,設備機器一覧!K:L,2,FALSE) -> #N/A | BR67: =IFERROR(VLOOKUP(BQ67,設備機器一覧!C:G,2,FALSE),0) -> 0 | BS67: =IFERROR(VLOOKUP(BQ67,設備機器一覧!C:G,3,FALSE),"") | BT67: =IFERROR(VLOOKUP(BQ67,設備機器一覧!C:G,4,FALSE),0) -> 0 | BU67: =IFERROR(VLOOKUP(BQ67,設備機器一覧!C:G,5,FALSE),"") | BV67: 0 | BW67: =IFERROR(VLOOKUP(BQ67,設備機器一覧!C:H,6,FALSE),"")
X69: ( | Y69: =IF($H67="","",IF($B$58=0,"",BR67)) | AD69: ) | AO69: ( | AP69: =IF(AJ67="","",IF($B$58=0,"",IFERROR(Y69*AJ67,""))) | AU69: )
B70: =IF($B$58=0,BS70,IF($B$58=0.5,BU70,IF($B$58=1,"",""))) | H70: =IFERROR(BQ70,"") | X70: =IF($H70="","",IF($B$58=0,BR70,IF($B$58=0.5,BT70,IF($B$58=1,BV70,"")))) | AE70: =IF($H70="","",IF(BR70=0,0,BW70)) | AO70: =IF(AJ70="","",IFERROR(X70*AJ70,"")) | BN70: 4 | BQ70: =VLOOKUP(BN70,設備機器一覧!K:L,2,FALSE) -> #N/A | BR70: =IFERROR(VLOOKUP(BQ70,設備機器一覧!C:G,2,FALSE),0) -> 0 | BS70: =IFERROR(VLOOKUP(BQ70,設備機器一覧!C:G,3,FALSE),"") | BT70: =IFERROR(VLOOKUP(BQ70,設備機器一覧!C:G,4,FALSE),0) -> 0 | BU70: =IFERROR(VLOOKUP(BQ70,設備機器一覧!C:G,5,FALSE),"") | BV70: 0 | BW70: =IFERROR(VLOOKUP(BQ70,設備機器一覧!C:H,6,FALSE),"")
X72: ( | Y72: =IF($H70="","",IF($B$58=0,"",BR70)) | AD72: ) | AO72: ( | AP72: =IF(AJ70="","",IF($B$58=0,"",IFERROR(Y72*AJ70,""))) | AU72: )
B73: =IF($B$58=0,BS73,IF($B$58=0.5,BU73,IF($B$58=1,"",""))) | H73: =IFERROR(BQ73,"") | X73: =IF($H73="","",IF($B$58=0,BR73,IF($B$58=0.5,BT73,IF($B$58=1,BV73,"")))) | AE73: =IF($H73="","",IF(BR73=0,0,BW73)) | AO73: =IF(AJ73="","",IFERROR(X73*AJ73,"")) | BN73: 5 | BQ73: =VLOOKUP(BN73,設備機器一覧!K:L,2,FALSE) -> #N/A | BR73: =IFERROR(VLOOKUP(BQ73,設備機器一覧!C:G,2,FALSE),0) -> 0 | BS73: =IFERROR(VLOOKUP(BQ73,設備機器一覧!C:G,3,FALSE),"") | BT73: =IFERROR(VLOOKUP(BQ73,設備機器一覧!C:G,4,FALSE),0) -> 0 | BU73: =IFERROR(VLOOKUP(BQ73,設備機器一覧!C:G,5,FALSE),"") | BV73: 0 | BW73: =IFERROR(VLOOKUP(BQ73,設備機器一覧!C:H,6,FALSE),"")
X75: ( | Y75: =IF($H73="","",IF($B$58=0,"",BR73)) | AD75: ) | AO75: ( | AP75: =IF(AJ73="","",IF($B$58=0,"",IFERROR(Y75*AJ73,""))) | AU75: )
B76: =IF($B$58=0,BS76,IF($B$58=0.5,BU76,IF($B$58=1,"",""))) | H76: =IFERROR(BQ76,"") | X76: =IF($H76="","",IF($B$58=0,BR76,IF($B$58=0.5,BT76,IF($B$58=1,BV76,"")))) | AE76: =IF($H76="","",IF(BR76=0,0,BW76)) | AO76: =IF(AJ76="","",IFERROR(X76*AJ76,"")) | BN76: 4 | BQ76: =VLOOKUP(BN76,設備機器一覧!K:L,2,FALSE) -> #N/A | BR76: =IFERROR(VLOOKUP(BQ76,設備機器一覧!C:G,2,FALSE),0) -> 0 | BS76: =IFERROR(VLOOKUP(BQ76,設備機器一覧!C:G,3,FALSE),"") | BT76: =IFERROR(VLOOKUP(BQ76,設備機器一覧!C:G,4,FALSE),0) -> 0 | BU76: =IFERROR(VLOOKUP(BQ76,設備機器一覧!C:G,5,FALSE),"") | BV76: 0 | BW76: =IFERROR(VLOOKUP(BQ76,設備機器一覧!C:H,6,FALSE),"")
...

Sheet 設備使用申請書
B1: 決裁日 | H1: 令和 | N1: 年 | S1: 月 | X1: 日 | AE1: =プルダウン用シート!J1 -> ver8（R8.10.1）
B3: 【実施伺】本件、受諾してよろしいか。
B4: センター長 | G4: 副センター長 | L4: 部長 | Q4: グループ長 | V4: グループ員 | AG4: 担当者
B10: 設備使用申請書
BF11: 今日の日付(参考）
AH13: 令和 | AN13: 年 | AS13: 月 | AY13: 日 | BF13: =YEAR(TODAY())-2018 -> 8 | BH13: =MONTH(TODAY()) -> 9 | BI13: =DAY(TODAY()) -> 28
C15: 茨城県産業技術イノベーションセンター長 殿
AI16: （〒）
AD18: 住 所
AD20: 電話番号
AD22: 事業所名
AD26: 氏 名
C29: 次により，貴センターの設備を使用したいので，申請します。
C32: １．設備の名称 | M32: =設備機器一覧!L109
C35: ２．使用の目的 | BF35: https://www.itic.pref.ibaraki.jp/facility/
C38: ３．使用数量
C41: ４．使用期間 | M41: 令和 | S41: 年 | W41: 月 | AA41: 日から令和 | AK41: 年 | AO41: 月 | AS41: 日まで
C44: （使用時間 | M44: 令和 | T44: 年 | X44: 月 | AB44: 日 | AH44: 時から | AO44: 時まで）
C49: 設備使用者連絡先 | M49: （１） | O49: 所属部署
M51: （２） | O51: 役職・氏名
M53: （３） | O53: TEL
M55: （４） | O55: E-MAIL
U58: 以下センター職員記入欄
B59: 0 | H59: =IF(B59<>0,"()内の金額は減免前の金額です","")
B60: コードNo | H60: 設 備 機 器 名 | X60: 単 価 | AE60: 単位 | AJ60: 単位数 | AO60: 金 額 | AV60: 確 認 者 | BR60: 設 備 名 | BS60: 単価 減免無し | BT60: コード 減免無し | BU60: 単価 50％減免 | BV60: コード 50％減免 | BW60: 単価 100％減免 | BX60: 単位
B62: =IF($B$59=0,BT62,IF($B$59=0.5,BV62,IF($B$59=1,"",""))) | H62: =IFERROR(BR62,"") | X62: =IF($H62="","",IF($B$59=0,BS62,IF($B$59=0.5,BU62,IF($B$59=1,BW62,"")))) | AE62: =IF($H62="","",IF(BS62=0,0,BX62)) | AO62: =IF(AJ62="","",IFERROR(X62*AJ62,"")) | BO62: 1 | BR62: =VLOOKUP(BO62,設備機器一覧!K:L,2,FALSE) -> #N/A | BS62: =IFERROR(VLOOKUP(BR62,設備機器一覧!C:G,2,FALSE),0) -> 0 | BT62: =IFERROR(VLOOKUP(BR62,設備機器一覧!C:G,3,FALSE),"") | BU62: =IFERROR(VLOOKUP(BR62,設備機器一覧!C:G,4,FALSE),0) -> 0 | BV62: =IFERROR(VLOOKUP(BR62,設備機器一覧!C:G,5,FALSE),"") | BW62: 0 | BX62: =IFERROR(VLOOKUP(BR62,設備機器一覧!C:H,6,FALSE),"")
X64: =IF($B$59=0,"","（") | Y64: =IF($H62="","",IF($B$59=0,"",BS62)) | AD64: =IF($B$59=0,"","）") | AO64: =IF($B$59=0,"","（") | AP64: =IF(AJ62="","",IF($B$59=0,"",IFERROR(Y64*AJ62,""))) | AU64: =IF($B$59=0,"","）")
B65: =IF($B$59=0,BT65,IF($B$59=0.5,BV65,IF($B$59=1,"",""))) | H65: =IFERROR(BR65,"") | X65: =IF($H65="","",IF($B$59=0,BS65,IF($B$59=0.5,BU65,IF($B$59=1,BW65,"")))) | AE65: =IF($H65="","",IF(BS65=0,0,BX65)) | AO65: =IF(AJ65="","",IFERROR(X65*AJ65,"")) | BO65: 2 | BR65: =VLOOKUP(BO65,設備機器一覧!K:L,2,FALSE) -> #N/A | BS65: =IFERROR(VLOOKUP(BR65,設備機器一覧!C:G,2,FALSE),0) -> 0 | BT65: =IFERROR(VLOOKUP(BR65,設備機器一覧!C:G,3,FALSE),"") | BU65: =IFERROR(VLOOKUP(BR65,設備機器一覧!C:G,4,FALSE),0) -> 0 | BV65: =IFERROR(VLOOKUP(BR65,設備機器一覧!C:G,5,FALSE),"") | BW65: 0 | BX65: =IFERROR(VLOOKUP(BR65,設備機器一覧!C:H,6,FALSE),"")
X67: =IF($B$59=0,"","（") | Y67: =IF($H65="","",IF($B$59=0,"",BS65)) | AD67: =IF($B$59=0,"","）") | AO67: =IF($B$59=0,"","（") | AP67: =IF(AJ65="","",IF($B$59=0,"",IFERROR(Y67*AJ65,""))) | AU67: =IF($B$59=0,"","）")
B68: =IF($B$59=0,BT68,IF($B$59=0.5,BV68,IF($B$59=1,"",""))) | H68: =IFERROR(BR68,"") | X68: =IF($H68="","",IF($B$59=0,BS68,IF($B$59=0.5,BU68,IF($B$59=1,BW68,"")))) | AE68: =IF($H68="","",IF(BS68=0,0,BX68)) | AO68: =IF(AJ68="","",IFERROR(X68*AJ68,"")) | BO68: 3 | BR68: =VLOOKUP(BO68,設備機器一覧!K:L,2,FALSE) -> #N/A | BS68: =IFERROR(VLOOKUP(BR68,設備機器一覧!C:G,2,FALSE),0) -> 0 | BT68: =IFERROR(VLOOKUP(BR68,設備機器一覧!C:G,3,FALSE),"") | BU68: =IFERROR(VLOOKUP(BR68,設備機器一覧!C:G,4,FALSE),0) -> 0 | BV68: =IFERROR(VLOOKUP(BR68,設備機器一覧!C:G,5,FALSE),"") | BW68: 0 | BX68: =IFERROR(VLOOKUP(BR68,設備機器一覧!C:H,6,FALSE),"")
X70: =IF($B$59=0,"","（") | Y70: =IF($H68="","",IF($B$59=0,"",BS68)) | AD70: =IF($B$59=0,"","）") | AO70: =IF($B$59=0,"","（") | AP70: =IF(AJ68="","",IF($B$59=0,"",IFERROR(Y70*AJ68,""))) | AU70: =IF($B$59=0,"","）")
B71: =IF($B$59=0,BT71,IF($B$59=0.5,BV71,IF($B$59=1,"",""))) | H71: =IFERROR(BR71,"") | X71: =IF($H71="","",IF($B$59=0,BS71,IF($B$59=0.5,BU71,IF($B$59=1,BW71,"")))) | AE71: =IF($H71="","",IF(BS71=0,0,BX71)) | AO71: =IF(AJ71="","",IFERROR(X71*AJ71,"")) | BO71: 4 | BR71: =VLOOKUP(BO71,設備機器一覧!K:L,2,FALSE) -> #N/A | BS71: =IFERROR(VLOOKUP(BR71,設備機器一覧!C:G,2,FALSE),0) -> 0 | BT71: =IFERROR(VLOOKUP(BR71,設備機器一覧!C:G,3,FALSE),"") | BU71: =IFERROR(VLOOKUP(BR71,設備機器一覧!C:G,4,FALSE),0) -> 0 | BV71: =IFERROR(VLOOKUP(BR71,設備機器一覧!C:G,5,FALSE),"") | BW71: 0 | BX71: =IFERROR(VLOOKUP(BR71,設備機器一覧!C:H,6,FALSE),"")
X73: =IF($B$59=0,"","（") | Y73: =IF($H71="","",IF($B$59=0,"",BS71)) | AD73: =IF($B$59=0,"","）") | AO73: =IF($B$59=0,"","（") | AP73: =IF(AJ71="","",IF($B$59=0,"",IFERROR(Y73*AJ71,""))) | AU73: =IF($B$59=0,"","）")
B74: =IF($B$59=0,BT74,IF($B$59=0.5,BV74,IF($B$59=1,"",""))) | H74: =IFERROR(BR74,"") | X74: =IF($H74="","",IF($B$59=0,BS74,IF($B$59=0.5,BU74,IF($B$59=1,BW74,"")))) | AE74: =IF($H74="","",IF(BS74=0,0,BX74)) | AO74: =IF(AJ74="","",IFERROR(X74*AJ74,"")) | BO74: 5 | BR74: =VLOOKUP(BO74,設備機器一覧!K:L,2,FALSE) -> #N/A | BS74: =IFERROR(VLOOKUP(BR74,設備機器一覧!C:G,2,FALSE),0) -> 0 | BT74: =IFERROR(VLOOKUP(BR74,設備機器一覧!C:G,3,FALSE),"") | BU74: =IFERROR(VLOOKUP(BR74,設備機器一覧!C:G,4,FALSE),0) -> 0 | BV74: =IFERROR(VLOOKUP(BR74,設備機器一覧!C:G,5,FALSE),"") | BW74: 0 | BX74: =IFERROR(VLOOKUP(BR74,設備機器一覧!C:H,6,FALSE),"")
X76: =IF($B$59=0,"","（") | Y76: =IF($H74="","",IF($B$59=0,"",BS74)) | AD76: =IF($B$59=0,"","）") | AO76: =IF($B$59=0,"","（") | AP76: =IF(AJ74="","",IF($B$59=0,"",IFERROR(Y76*AJ74,""))) | AU76: =IF($B$59=0,"","）")
B77: =IF($B$59=0,BT77,IF($B$59=0.5,BV77,IF($B$59=1,"",""))) | H77: =IFERROR(BR77,"") | X77: =IF($H77="","",IF($B$59=0,BS77,IF($B$59=0.5,BU77,IF($B$59=1,BW77,"")))) | AE77: =IF($H77="","",IF(BS77=0,0,BX77)) | AO77: =IF(AJ77="","",IFERROR(X77*AJ77,"")) | BO77: 6 | BR77: =VLOOKUP(BO77,設備機器一覧!K:L,2,FALSE) -> #N/A | BS77: =IFERROR(VLOOKUP(BR77,設備機器一覧!C:G,2,FALSE),0) -> 0 | BT77: =IFERROR(VLOOKUP(BR77,設備機器一覧!C:G,3,FALSE),"") | BU77: =IFERROR(VLOOKUP(BR77,設備機器一覧!C:G,4,FALSE),0) -> 0 | BV77: =IFERROR(VLOOKUP(BR77,設備機器一覧!C:G,5,FALSE),"") | BW77: 0 | BX77: =IFERROR(VLOOKUP(BR77,設備機器一覧!C:H,6,FALSE),"")
X79: =IF($B$59=0,"","（") | Y79: =IF($H77="","",IF($B$59=0,"",BS77)) | AD79: =IF($B$59=0,"","）") | AO79: =IF($B$59=0,"","（") | AP79: =IF(AJ77="","",IF($B$59=0,"",IFERROR(Y79*AJ77,""))) | AU79: =IF($B$59=0,"","）")
B80: =IF($B$59=0,BT80,IF($B$59=0.5,BV80,IF($B$59=1,"",""))) | H80: =IFERROR(BR80,"") | X80: =IF($H80="","",IF($B$59=0,BS80,IF($B$59=0.5,BU80,IF($B$59=1,BW80,"")))) | AE80: =IF($H80="","",IF(BS80=0,0,BX80)) | AO80: =IF(AJ80="","",IFERROR(X80*AJ80,"")) | BO80: 7 | BR80: =VLOOKUP(BO80,設備機器一覧!K:L,2,FALSE) -> #N/A | BS80: =IFERROR(VLOOKUP(BR80,設備機器一覧!C:G,2,FALSE),0) -> 0 | BT80: =IFERROR(VLOOKUP(BR80,設備機器一覧!C:G,3,FALSE),"") | BU80: =IFERROR(VLOOKUP(BR80,設備機器一覧!C:G,4,FALSE),0) -> 0 | BV80: =IFERROR(VLOOKUP(BR80,設備機器一覧!C:G,5,FALSE),"") | BW80: 0 | BX80: =IFERROR(VLOOKUP(BR80,設備機器一覧!C:H,6,FALSE),"")
X82: =IF($B$59=0,"","（") | Y82: =IF($H80="","",IF($B$59=0,"",BS80)) | AD82: =IF($B$59=0,"","）") | AO82: =IF($B$59=0,"","（") | AP82: =IF(AJ80="","",IF($B$59=0,"",IFERROR(Y82*AJ80,""))) | AU82: =IF($B$59=0,"","）")
B83: =IF(設備機器一覧!J109=0,"",IF(設備機器一覧!J109>7,"使用する機器の合計が8件以上の場合はセンター職員にお問い合わせ願います",設備機器一覧!J109))
...

Sheet 誓約書【記入例】
A3: 誓 約 書
J9: 令和 | K9: 8 | L9: 年 | M9: 4 | N9: 月 | O9: 1 | P9: 日
B12: 茨城県産業技術イノベーションセンター長 殿
H15: 住 所 | J15: 茨城県東茨城郡茨城町長岡3781-1
H16: 電話番号 | J16: 029-293-7212
H17: 事業所名 | J17: 茨城県産業技術イノベーションセンター
H18: 事業主名 （代表者） | J18: 代表取締役 茨城 太郎
B22: 私、このたび設備使用者 | F22: 水戸 次郎 | I22: が貴所の試験機器の設備を使用
B23: することにつきましては、以下を遵守することを誓約します。
B25: １ 関係規定及び茨城県産業技術イノベーションセンター職員の指示に従います。 ２ 設備使用にあたっては、申請書に記載した目的以外の利用はいたしません。 ３ 設備使用にあたって、必要な工具、原材料は当社（使用者）の負担で持参し、持参した もの及び発生した廃棄物等は当社（使用者）がすべて持ち帰ります。 ４ 当社（使用者）が故意又は自らの過失により試験機器等を滅失又はき損した場合は、 当社（使用者）が滅失又はき損した当該機器の補てん又は修理等を行い、茨城県産業 技術イノベーションセンターに損害を賠償します。 ５ 次に掲げる(1)または(2)により当社（使用者）が被った損害については、当社（使用者） が全責任を負い、茨城県産業技術イノベーションセンターに損害賠償等の請求は一切 行いません。 (1) 当社（使用者）の故意又は過失により発生した事故 (2) 自然災害 ６ 設備使用により得られたデータを公開する場合は、茨城県及び茨城県産業技術 イノベーションセンターの名称を一切使用いたしません。

Sheet 誓約書
A3: 誓 約 書
J9: 令和 | K9: =設備使用申請書!AK13 -> 0 | L9: 年 | M9: =設備使用申請書!AP13 -> 0 | N9: 月 | O9: =設備使用申請書!AU13 -> 0 | P9: 日
B12: 茨城県産業技術イノベーションセンター長 殿
H15: 住 所 | J15: =設備使用申請書!AJ18 -> 0
H16: 電話番号 | J16: =設備使用申請書!AJ20 -> 0
H17: 事業所名 | J17: =設備使用申請書!AJ22 -> 0
H18: 事業主名 （代表者）
B22: 私、このたび設備使用者 | I22: が貴所の試験機器の設備を使用
B23: することにつきましては、以下を遵守することを誓約します。
B25: １ 関係規定及び茨城県産業技術イノベーションセンター職員の指示に従います。 ２ 設備使用にあたっては、申請書に記載した目的以外の利用はいたしません。 ３ 設備使用にあたって、必要な工具、原材料は当社（使用者）の負担で持参し、持参した もの及び発生した廃棄物等は当社（使用者）がすべて持ち帰ります。 ４ 当社（使用者）が故意又は自らの過失により試験機器等を滅失又はき損した場合は、 当社（使用者）が滅失又はき損した当該機器の補てん又は修理等を行い、茨城県産業 技術イノベーションセンターに損害を賠償します。 ５ 次に掲げる(1)または(2)により当社（使用者）が被った損害については、当社（使用者） が全責任を負い、茨城県産業技術イノベーションセンターに損害賠償等の請求は一切 行いません。 (1) 当社（使用者）の故意又は過失により発生した事故 (2) 自然災害 ６ 設備使用により得られたデータを公開する場合は、茨城県及び茨城県産業技術 イノベーションセンターの名称を一切使用いたしません。

Sheet 設備機器一覧
A1: 設備区分 | C1: 設備機器名 | D1: 単価 | E1: コード | F1: 50％減免 | G1: コード | H1: 単位 | L1: 使用する機器
A2: すべての機器 | C2: 強度試験機器 | L2: =IF(K2>0,C2,"")
A3: 強度試験機器 | C3: インストロン万能試験機(15トン) | D3: 1650 | E3: 5101 | F3: =ROUNDDOWN(D3/2,-1) -> 820 | G3: 7101 | H3: 時間 | J3: FALSE | K3: =IF(J3=TRUE,COUNTIF(J$3:J3,TRUE),0) -> 0 | L3: =IF(K3>=1,C3,"")
A4: 摩擦・摩耗試験機器 | C4: 落下試験機 | D4: 1870 | E4: 5103 | F4: =ROUNDDOWN(D4/2,-1) -> 930 | G4: 7103 | H4: 時間 | J4: FALSE | K4: =IF(J4=TRUE,COUNTIF(J$3:J4,TRUE),0) -> 0 | L4: =IF(K4>=1,C4,"")
A5: 硬度試験機器 | C5: シャルピー衝撃試験機 | D5: 1760 | E5: 5104 | F5: =ROUNDDOWN(D5/2,-1) -> 880 | G5: 7104 | H5: 時間 | J5: FALSE | K5: =IF(J5=TRUE,COUNTIF(J$3:J5,TRUE),0) -> 0 | L5: =IF(K5>=1,C5,"")
A6: 物性試験・薄膜作成等機器 | C6: 摩擦・摩耗試験機器 | K6: =IF(J6=TRUE,COUNTIF(J$3:J6,TRUE),0) -> 0 | L6: =IF(K6>=1,C6,"")
A7: 洗浄関連機器 | C7: スガ摩耗試験機 | D7: 550 | E7: 5201 | F7: =ROUNDDOWN(D7/2,-1) -> 270 | G7: 7201 | H7: 時間 | J7: FALSE | K7: =IF(J7=TRUE,COUNTIF(J$3:J7,TRUE),0) -> 0 | L7: =IF(K7>0,C7,"")
A8: 電気試験機器 | C8: 硬度試験機器 | K8: =IF(J8=TRUE,COUNTIF(J$3:J8,TRUE),0) -> 0 | L8: =IF(K8>0,C8,"")
A9: 耐候試験機器 | C9: 微小ビッカース硬さ試験機 | D9: 1320 | E9: 5301 | F9: =ROUNDDOWN(D9/2,-1) -> 660 | G9: 7301 | H9: 時間 | J9: FALSE | K9: =IF(J9=TRUE,COUNTIF(J$3:J9,TRUE),0) -> 0 | L9: =IF(K9>0,C9,"")
A10: 微生物試験関連機器 | C10: ブリネル硬度計 | D10: 660 | E10: 5302 | F10: =ROUNDDOWN(D10/2,-1) -> 330 | G10: 7302 | H10: 時間 | J10: FALSE | K10: =IF(J10=TRUE,COUNTIF(J$3:J10,TRUE),0) -> 0 | L10: =IF(K10>0,C10,"")
A11: 金属工作機械 | C11: ロックウェル硬度計 | D11: 1320 | E11: 5303 | F11: =ROUNDDOWN(D11/2,-1) -> 660 | G11: 7303 | H11: 時間 | J11: FALSE | K11: =IF(J11=TRUE,COUNTIF(J$3:J11,TRUE),0) -> 0 | L11: =IF(K11>0,C11,"")
A12: 木材工作機械 | C12: 物性試験・薄膜作成等機器 | K12: =IF(J12=TRUE,COUNTIF(J$3:J12,TRUE),0) -> 0 | L12: =IF(K12>0,C12,"")
A13: 設計支援機器 | C13: 熱間埋込機(樹脂の包埋) | D13: 1210 | E13: 5401 | F13: =ROUNDDOWN(D13/2,-1) -> 600 | G13: 7401 | H13: 時間 | J13: FALSE | K13: =IF(J13=TRUE,COUNTIF(J$3:J13,TRUE),0) -> 0 | L13: =IF(K13>0,C13,"") | N13: https://www.itic.pref.ibaraki.jp/facility/
A14: 自動化技術支援機器 | C14: 蛍光エックス線膜厚計 | D14: 1870 | E14: 5402 | F14: =ROUNDDOWN(D14/2,-1) -> 930 | G14: 7402 | H14: 時間 | J14: FALSE | K14: =IF(J14=TRUE,COUNTIF(J$3:J14,TRUE),0) -> 0 | L14: =IF(K14>0,C14,"")
A15: 食品加工試験機 | C15: 微小蛍光エックス線分析装置 | D15: 3520 | E15: 5404 | F15: =ROUNDDOWN(D15/2,-1) -> 1760 | G15: 7404 | H15: 時間 | J15: FALSE | K15: =IF(J15=TRUE,COUNTIF(J$3:J15,TRUE),0) -> 0 | L15: =IF(K15>0,C15,"")
A16: 食品加工機器 | C16: ICP発光分析装置 | D16: 6050 | E16: 5405 | F16: =ROUNDDOWN(D16/2,-1) -> 3020 | G16: 7405 | H16: 時間 | J16: FALSE | K16: =IF(J16=TRUE,COUNTIF(J$3:J16,TRUE),0) -> 0 | L16: =IF(K16>0,C16,"")
C17: 原子吸光分析装置 | D17: 4400 | E17: 5431 | F17: =ROUNDDOWN(D17/2,-1) -> 2200 | G17: 7431 | H17: 時間 | J17: FALSE | K17: =IF(J17=TRUE,COUNTIF(J$3:J17,TRUE),0) -> 0 | L17: =IF(K17>0,C17,"")
C18: マイクロ波加熱分解装置 | D18: 2640 | E18: 5406 | F18: =ROUNDDOWN(D18/2,-1) -> 1320 | G18: 7406 | H18: 時間 | J18: FALSE | K18: =IF(J18=TRUE,COUNTIF(J$3:J18,TRUE),0) -> 0 | L18: =IF(K18>0,C18,"")
C19: 赤外分光光度計 | D19: 3520 | E19: 5407 | F19: =ROUNDDOWN(D19/2,-1) -> 1760 | G19: 7407 | H19: 時間 | J19: FALSE | K19: =IF(J19=TRUE,COUNTIF(J$3:J19,TRUE),0) -> 0 | L19: =IF(K19>0,C19,"")
C20: ドラフトチャンバー | D20: 1650 | E20: 5408 | F20: =ROUNDDOWN(D20/2,-1) -> 820 | G20: 7408 | H20: 時間 | J20: FALSE | K20: =IF(J20=TRUE,COUNTIF(J$3:J20,TRUE),0) -> 0 | L20: =IF(K20>0,C20,"")
C21: 三次元測定機 | D21: 2860 | E21: 5409 | F21: =ROUNDDOWN(D21/2,-1) -> 1430 | G21: 7409 | H21: 時間 | J21: FALSE | K21: =IF(J21=TRUE,COUNTIF(J$3:J21,TRUE),0) -> 0 | L21: =IF(K21>0,C21,"")
C22: 金属顕微鏡(組織解析機能付) | D22: 1760 | E22: 5410 | F22: =ROUNDDOWN(D22/2,-1) -> 880 | G22: 7410 | H22: 時間 | J22: FALSE | K22: =IF(J22=TRUE,COUNTIF(J$3:J22,TRUE),0) -> 0 | L22: =IF(K22>0,C22,"")
C23: カーボンコーター(カーボンコーティング) | D23: 880 | E23: 5411 | F23: =ROUNDDOWN(D23/2,-1) -> 440 | G23: 7411 | H23: 時間 | J23: FALSE | K23: =IF(J23=TRUE,COUNTIF(J$3:J23,TRUE),0) -> 0 | L23: =IF(K23>0,C23,"")
C24: スパッタリング装置 | D24: 2420 | E24: 5412 | F24: =ROUNDDOWN(D24/2,-1) -> 1210 | G24: 7412 | H24: 時間 | J24: FALSE | K24: =IF(J24=TRUE,COUNTIF(J$3:J24,TRUE),0) -> 0 | L24: =IF(K24>0,C24,"") | N24: =J109 -> 0
C25: 雰囲気中液体急冷装置(アモルファス合金製造) | D25: 3080 | E25: 5413 | F25: =ROUNDDOWN(D25/2,-1) -> 1540 | G25: 7413 | H25: 時間 | J25: FALSE | K25: =IF(J25=TRUE,COUNTIF(J$3:J25,TRUE),0) -> 0 | L25: =IF(K25>0,C25,"")
C26: 走査型電子顕微鏡 | D26: 3520 | E26: 5414 | F26: =ROUNDDOWN(D26/2,-1) -> 1760 | G26: 7414 | H26: 時間 | J26: FALSE | K26: =IF(J26=TRUE,COUNTIF(J$3:J26,TRUE),0) -> 0 | L26: =IF(K26>0,C26,"")
C27: モノクロメーター付キセノンランプ | D27: 1320 | E27: 5415 | F27: =ROUNDDOWN(D27/2,-1) -> 660 | G27: 7415 | H27: 時間 | J27: FALSE | K27: =IF(J27=TRUE,COUNTIF(J$3:J27,TRUE),0) -> 0 | L27: =IF(K27>0,C27,"")
C28: 粒度分布測定装置 | D28: 1650 | E28: 5416 | F28: =ROUNDDOWN(D28/2,-1) -> 820 | G28: 7416 | H28: 時間 | J28: FALSE | K28: =IF(J28=TRUE,COUNTIF(J$3:J28,TRUE),0) -> 0 | L28: =IF(K28>0,C28,"")
C29: 走査型プローブ顕微鏡 | D29: 6160 | E29: 5417 | F29: =ROUNDDOWN(D29/2,-1) -> 3080 | G29: 7417 | H29: 時間 | J29: FALSE | K29: =IF(J29=TRUE,COUNTIF(J$3:J29,TRUE),0) -> 0 | L29: =IF(K29>0,C29,"")
C30: 試料研磨機 | D30: 1210 | E30: 5418 | F30: =ROUNDDOWN(D30/2,-1) -> 600 | G30: 7418 | H30: 時間 | J30: FALSE | K30: =IF(J30=TRUE,COUNTIF(J$3:J30,TRUE),0) -> 0 | L30: =IF(K30>0,C30,"")
C31: 放電プラズマ焼結装置 | D31: 3630 | E31: 5419 | F31: =ROUNDDOWN(D31/2,-1) -> 1810 | G31: 7419 | H31: 時間 | J31: FALSE | K31: =IF(J31=TRUE,COUNTIF(J$3:J31,TRUE),0) -> 0 | L31: =IF(K31>0,C31,"")
C32: ラマン分光分析装置 | D32: 2530 | E32: 5420 | F32: =ROUNDDOWN(D32/2,-1) -> 1260 | G32: 7420 | H32: 時間 | J32: FALSE | K32: =IF(J32=TRUE,COUNTIF(J$3:J32,TRUE),0) -> 0 | L32: =IF(K32>0,C32,"")
C33: 表面粗さ輪郭形状測定機 | D33: 2090 | E33: 5421 | F33: =ROUNDDOWN(D33/2,-1) -> 1040 | G33: 7421 | H33: 時間 | J33: FALSE | K33: =IF(J33=TRUE,COUNTIF(J$3:J33,TRUE),0) -> 0 | L33: =IF(K33>0,C33,"")
C34: 炭素硫黄分析装置 | D34: 2760 | E34: 5422 | F34: =ROUNDDOWN(D34/2,-1) -> 1380 | G34: 7422 | H34: 時間 | J34: FALSE | K34: =IF(J34=TRUE,COUNTIF(J$3:J34,TRUE),0) -> 0 | L34: =IF(K34>0,C34,"")
C35: エックス線残留応力測定装置 | D35: 3410 | E35: 5423 | F35: =ROUNDDOWN(D35/2,-1) -> 1700 | G35: 7423 | H35: 時間 | J35: FALSE | K35: =IF(J35=TRUE,COUNTIF(J$3:J35,TRUE),0) -> 0 | L35: =IF(K35>0,C35,"")
C36: レーザー顕微鏡 | D36: 2090 | E36: 5424 | F36: =ROUNDDOWN(D36/2,-1) -> 1040 | G36: 7424 | H36: 時間 | J36: FALSE | K36: =IF(J36=TRUE,COUNTIF(J$3:J36,TRUE),0) -> 0 | L36: =IF(K36>0,C36,"")
... C42: 画像測定機 | D42: 1870 | E42: 5430 | F42: =ROUNDDOWN(D42/2,-1) -> 930 | G42: 7430 | H42: 時間 | J42: FALSE | K42: =IF(J42=TRUE,COUNTIF(J$3:J42,TRUE),0) -> 0 | L42: =IF(K42>0,C42,"")
C43: 電気試験機器 | K43: =IF(J43=TRUE,COUNTIF(J$3:J43,TRUE),0) -> 0 | L43: =IF(K43>0,C43,"")
C44: RFイミュニティ機器 | D44: 8580 | E44: 5601 | F44: =ROUNDDOWN(D44/2,-1) -> 4290 | G44: 7601 | H44: 時間 | J44: FALSE | K44: =IF(J44=TRUE,COUNTIF(J$3:J44,TRUE),0) -> 0 | L44: =IF(K44>0,C44,"")
C45: 耐ノイズ試験機 | D45: 4620 | E45: 5602 | F45: =ROUNDDOWN(D45/2,-1) -> 2310 | G45: 7602 | H45: 時間 | J45: FALSE | K45: =IF(J45=TRUE,COUNTIF(J$3:J45,TRUE),0) -> 0 | L45: =IF(K45>0,C45,"")
...

Sheet 作成方法(管理者用）
A2: 【チェックリスト】
A3: ①手数料使用料管理一覧のリストを作成し、一覧シートへコピー
A4: ②コード、５０％減免単価、単位を追加
A5: ③非表示列を再表示
A6: ④ファイル⇒オプション⇒リボンのユーザー設定⇒開発に✔
A7: ⑤挿入したい場所で、開発タブの挿入⇒チェックボックスを選択
A8: ⑥チェックボックス横の文字を削除
A9: ⑦チェックボックスを選択したまま、図形の書式タブ⇒配置⇒枠線に合わせる
A10: ⇒枠線を動かすとセルの枠線に容易に合わせることができる
A11: ⑧チェックボックスを選択したまま右クリック⇒コントロールの書式設定⇒チェックボックスの右隣のセルをクリック
A12: ⇒チェックボックスに連動して「TRUE」「FALSE」を表示するようになる。
A13: ※チェックボックスを入力したセルをコピーする場合は、⑦を行う前にコピーする。（連動するセルを指定した後ではコピー元の✔の有無に連動する。）
... A19: ③
A36: ④ | M36: ⑤
A56: ⑥
A73: ⑦
A92: ⑧
A115: ⑨
A132: その他

Sheet プルダウン用シート
A1: 減免率 | C1: 担当者 | D1: グループ | F1: 数字 | I1: バージョン情報 | J1: ver8（R8.10.1）
A2: 0 | C2: 石川 | D2: 新ビジネス支援
A3: 0.5 | C3: 岡田 | D3: 新ビジネス支援 | F3: 0
A4: 1 | C4: 山屋 | D4: 新ビジネス支援 | F4: 1 | G4: 1
C5: 関谷 | D5: 新ビジネス支援 | F5: 2 | G5: 2
C6: 青木 | D6: IT・マテリアル | F6: 3 | G6: 3
C7: 浅野 | D7: IT・マテリアル | F7: 4
C8: 西本 | D8: IT・マテリアル | F8: 5 | G8: 4
C9: 上田 | D9: IT・マテリアル | F9: 6 | G9: 5
C10: 前島 | D10: IT・マテリアル | F10: 7 | G10: 6
C11: 岡田 | D11: IT・マテリアル | F11: 8 | G11: 7
C12: 石川(卓) | D12: IT・マテリアル | F12: 9 | G12: 8
C13: 中山 | D13: IT・マテリアル | F13: 10 | G13: 9
C14: 富田 | D14: IT・マテリアル | F14: 11 | G14: 10
C15: 廣嶌 | D15: IT・マテリアル | F15: 12 | G15: 11
C16: 勝山 | D16: IT・マテリアル | F16: 13 | G16: 12
C17: 中村 | D17: IT・マテリアル | F17: 14
C18: 平山 | D18: IT・マテリアル | F18: 15
C19: 堀内 | D19: IT・マテリアル | F19: 16
C20: 沖島 | D20: IT・マテリアル | F20: 17
C21: 楯 | D21: IT・マテリアル | F21: 18
C22: 吉浦 | D22: フード・ケミカル | F22: 19
C23: 磯(智) | D23: フード・ケミカル | F23: 20
C24: 浅野 | D24: フード・ケミカル | F24: 21
C25: 飛田 | D25: フード・ケミカル | F25: 22
C26: 久保 | D26: フード・ケミカル | F26: 23
C27: 岩佐 | D27: フード・ケミカル | F27: 24
C28: 櫻井 | D28: フード・ケミカル | F28: 25
... C35: 澤畠 | D35: フード・ケミカル | F35: 32
F36: 33
F37: 34
F38: 35
F39: 36
F40: 37
F41: 38
F42: 39
F43: 40
F44: 41
F45: 42
F46: 43
...
