Workbook
Name _8: プルダウン用シート!$G$7:$G$16
Name _9: プルダウン用シート!$G$3:$G$6
Name 〇強度試験機器: 設備機器一覧!$C$3:$C$5
Name EMI試験: 設備機器一覧!#REF!
Name RFイミュニティ試験: 設備機器一覧!#REF!
Name すべての機器: 設備機器一覧!$C$2:$C$108
Name その他: 設備機器一覧!#REF!
Name デジタルマルチメータによるもの: 設備機器一覧!#REF!
Name ノイズ耐性試験: 設備機器一覧!#REF!
Name プリンタ3Dインクジェット式: 設備機器一覧!#REF!
Name プリンタ3D熱溶解積層法: 設備機器一覧!#REF!
Name モデリングマシン: 設備機器一覧!#REF!
Name 一般分析: 設備機器一覧!#REF!
Name 引っかき硬度･鉛筆法: 設備機器一覧!#REF!
Name 栄養成分分析: 設備機器一覧!#REF!
Name 荷重試験: 設備機器一覧!#REF!
Name 解析シミュレーション・CAE: 設備機器一覧!#REF!
Name 官能検査: 設備機器一覧!#REF!
Name 強〇度試験機器: 設備機器一覧!$C$3:$C$5
Name 強度試験機器: 設備機器一覧!$C$3:$C$5
Name 金属工作機械: 設備機器一覧!$C$62:$C$66
Name 金属材料摩耗試験: 設備機器一覧!#REF!
Name 金属試験: 設備機器一覧!#REF!
Name 金属組織試験: 設備機器一覧!#REF!
Name 減免率: プルダウン用シート!$A$2:$A$4
Name 抗菌試験: 設備機器一覧!#REF!
Name 硬度試験: 設備機器一覧!#REF!
Name 硬度試験機器: 設備機器一覧!$C$9:$C$11
Name 酵素試験: 設備機器一覧!#REF!
Name 細菌検査: 設備機器一覧!#REF!
Name 材料強度試験: 設備機器一覧!#REF!
Name 材料強度試験等: 設備機器一覧!#REF!
Name 材料試験等: 設備機器一覧!#REF!
Name 撮像検証システムによるもの: 設備機器一覧!#REF!
Name 三次元デジタイザによるもの: 設備機器一覧!#REF!
Name 三次元形状データ作成・CAD: 設備機器一覧!#REF!
Name 残留応力測定: 設備機器一覧!#REF!
Name 四半期1始: プルダウン用シート!$A$9
Name 四半期1終: プルダウン用シート!$A$10
Name 四半期2始: プルダウン用シート!$A$11
Name 四半期2終: プルダウン用シート!$A$12
Name 四半期3始: プルダウン用シート!$A$13
Name 四半期3終: プルダウン用シート!$A$14
Name 四半期4始: プルダウン用シート!$A$15
Name 四半期4終: プルダウン用シート!$A$16
Name 試験区分: 設備機器一覧!#REF!
Name 試験目的: 設備機器一覧!#REF!
Name 自動化技術支援: 設備機器一覧!#REF!
Name 自動化技術支援機器: 設備機器一覧!$C$81:$C$84
Name 焼結試験: 設備機器一覧!#REF!
Name 職員派遣: 設備機器一覧!#REF!
Name 食品の分析・試験等: 設備機器一覧!#REF!
Name 食品加工機器: 設備機器一覧!$C$104:$C$108
Name 食品加工試験機: 設備機器一覧!$C$93:$C$102
Name 食品等分析・観察機器: 設備機器一覧!$C$86:$C$91
Name 性能試験・長期性能試験: 設備機器一覧!#REF!
Name 成績書: 設備機器一覧!#REF!
Name 成績書交付: 設備機器一覧!#REF!
Name 精度試験: 設備機器一覧!#REF!
Name 精密測定・三次元測定機: 設備機器一覧!#REF!

Sheet 設備使用申請書【記入例】
B1: 決裁日 | H1: 令和 | N1: 年 | S1: 月 | X1: 日 | AE1: =プルダウン用シート!J1 -> ver8（R8.10.1）
B3: 【実施伺】本件、受諾してよろしいか。
B4: 副センター長 | F4: 部長 | K4: グループ長 | P4: グループ員 | AA4: 担当者
B10: 設備使用申請書
BE11: 今日の日付(参考）
AH13: 令和 | AK13: 8 | AN13: 年 | AP13: 10 | AS13: 月 | AU13: 1 | AX13: 日 | BE13: =YEAR(TODAY())-2018 -> 8 | BG13: =MONTH(TODAY()) -> 9 | BH13: =DAY(TODAY()) -> 28
C15: 茨城県産業技術イノベーションセンター長 殿
AI16: （〒） | AL16: 311-3195
AD18: 住 所 | AJ18: 茨城県東茨城郡茨城町長岡3781-1
C19: 記入例
AD20: 電話番号 | AJ20: 029-293-7212
AD22: 事業所名 | AJ22: 茨城県産業技術イノベーションセンター
AJ24: 代表取締役社長
AD26: 氏 名 | AJ26: 茨城 太郎
C27: ※本記入例を参考に設備使用申請書（別シート）に記入願います
C29: 次により，貴センターの設備を使用したいので，申請します。
C32: １．設備の名称 | M32: =設備機器一覧!L109
C35: ２．使用の目的 | M35: 製品の性能評価 | BE35: https://www.itic.pref.ibaraki.jp/facility/
C38: ３．使用数量 | M38: 〇個、〇個所、〇式、〇通りなど
C41: ４．使用期間 | M41: 令和 | Q41: 8 | S41: 年 | U41: 4 | W41: 月 | Y41: 1 | AA41: 日から令和 | AI41: 8 | AK41: 年 | AM41: 4 | AO41: 月 | AQ41: 1 | AS41: 日まで
AS43: (お昼休憩のため12時～13時は使用していない)
C44: （使用時間 | N44: 令和 | R44: 8 | T44: 年 | V44: 4 | X44: 月 | Z44: 1 | AB44: 日 | AE44: 10 | AH44: 時から | AL44: 14 | AO44: 時まで）
C48: 設備使用者連絡先 | M48: （１） | O48: 所属部署 | U48: ○○部○○課
M50: （２） | O50: 役職・氏名 | U50: 主任 ○○ ○○
M52: （３） | O52: TEL | U52: 029-293-7213
M54: （４） | O54: E-MAIL | U54: ××××＠○○○○.jp
U57: 以下センター職員記入欄
B58: 0 | H58: =IF(B58<>0,"()内の金額は減免前の金額です","")
B59: コードNo | H59: 設 備 機 器 名 | X59: 単 価 | AE59: 単位 | AJ59: 単位数 | AO59: 金 額 | AV59: 確 認 者 | BQ59: 設 備 名 | BR59: 単価 減免無し | BS59: コード 減免無し | BT59: 単価 50％減免 | BU59: コード 50％減免 | BV59: 単価 100％減免 | BW59: 単位
B61: =IF($B$58=0,BS61,IF($B$58=0.5,BU61,IF($B$58=1,"",""))) | H61: =IFERROR(BQ61,"") | X61: =IF($H61="","",IF($B$58=0,BR61,IF($B$58=0.5,BT61,IF($B$58=1,BV61,"")))) | AE61: =IF($H61="","",IF(BR61=0,0,BW61)) | AO61: =IF(AJ61="","",IFERROR(X61*AJ61,"")) | BN61: 1 | BQ61: =VLOOKUP(BN61,設備機器一覧!K:L,2,FALSE) -> #N/A | BR61: =IFERROR(VLOOKUP(BQ61,設備機器一覧!C:G,2,FALSE),0) -> 0 | BS61: =IFERROR(VLOOKUP(BQ61,設備機器一覧!C:G,3,FALSE),"") | BT61: =IFERROR(VLOOKUP(BQ61,設備機器一覧!C:G,4,FALSE),0) -> 0 | BU61: =IFERROR(VLOOKUP(BQ61,設備機器一覧!C:G,5,FALSE),"") | BV61: 0 | BW61: =IFERROR(VLOOKUP(BQ61,設備機器一覧!C:H,6,FALSE),"")
X63: ( | Y63: =IF($H61="","",IF($B$58=0,"",BR61)) | AD63: ) | AO63: ( | AP63: =IF(AJ61="","",IF($B$58=0,"",IFERROR(Y63*AJ61,""))) | AU63: )
B64: =IF($B$58=0,BS64,IF($B$58=0.5,BU64,IF($B$58=1,"",""))) | H64: =IFERROR(BQ64,"") | X64: =IF($H64="","",IF($B$58=0,BR64,IF($B$58=0.5,BT64,IF($B$58=1,BV64,"")))) | AE64: =IF($H64="","",IF(BR64=0,0,BW64)) | AO64: =IF(AJ64="","",IFERROR(X64*AJ64,"")) | BN64: 2 | BQ64: =VLOOKUP(BN64,設備機器一覧!K:L,2,FALSE) -> #N/A | BR64: =IFERROR(VLOOKUP(BQ64,設備機器一覧!C:G,2,FALSE),0) -> 0 | BS64: =IFERROR(VLOOKUP(BQ64,設備機器一覧!C:G,3,FALSE),"") | BT64: =IFERROR(VLOOKUP(BQ64,設備機器一覧!C:G,4,FALSE),0) -> 0 | BU64: =IFERROR(VLOOKUP(BQ64,設備機器一覧!C:G,5,FALSE),"") | BV64: 0 | BW64: =IFERROR(VLOOKUP(BQ64,設備機器一覧!C:H,6,FALSE),"")
X66: ( | Y66: =IF($H64="","",IF($B$58=0,"",BR64)) | AD66: ) | AO66: ( | AP66: =IF(AJ64="","",IF($B$58=0,"",IFERROR(Y66*AJ64,""))) | AU66: )
B67: =IF($B$58=0,BS67,IF($B$58=0.5,BU67,IF($B$58=1,"",""))) | H67: =IFERROR(BQ67,"") | X67: =IF($H67="","",IF($B$58=0,BR67,IF($B$58=0.5,BT67,IF($B$58=1,BV67,"")))) | AE67: =IF($H67="","",IF(BR67=0,0,BW67)) | AO67: =IF(AJ67="","",IFERROR(X67*AJ67,"")) | BN67: 3 | BQ67: =VLOOKUP(BN67,設備機器一覧!K:L,2,FALSE) -> #N/A | BR67: =IFERROR(VLOOKUP(BQ67,設備機器一覧!C:G,2,FALSE),0) -> 0 | BS67: =IFERROR(VLOOKUP(BQ67,設備機器一覧!C:G,3,FALSE),"") | BT67: =IFERROR(VLOOKUP(BQ67,設備機器一覧!C:G,4,FALSE),0) -> 0 | BU67: =IFERROR(VLOOKUP(BQ67,設備機器一覧!C:G,5,FALSE),"") | BV67: 0 | BW67: =IFERROR(VLOOKUP(BQ67,設備機器一覧!C:H,6,FALSE),"")
X69: ( | Y69: =IF($H67="","",IF($B$58=0,"",BR67)) | AD69: ) | AO69: ( | AP69: =IF(AJ67="","",IF($B$58=0,"",IFERROR(Y69*AJ67,""))) | AU69: )
B70: =IF($B$58=0,BS70,IF($B$58=0.5,BU70,IF($B$58=1,"",""))) | H70: =IFERROR(BQ70,"") | X70: =IF($H70="","",IF($B$58=0,BR70,IF($B$58=0.5,BT70,IF($B$58=1,BV70,"")))) | AE70: =IF($H70="","",IF(BR70=0,0,BW70)) | AO70: =IF(AJ70="","",IFERROR(X70*AJ70,"")) | BN70: 4 | BQ70: =VLOOKUP(BN70,設備機器一覧!K:L,2,FALSE) -> #N/A | BR70: =IFERROR(VLOOKUP(BQ70,設備機器一覧!C:G,2,FALSE),0) -> 0 | BS70: =IFERROR(VLOOKUP(BQ70,設備機器一覧!C:G,3,FALSE),"") | BT70: =IFERROR(VLOOKUP(BQ70,設備機器一覧!C:G,4,FALSE),0) -> 0 | BU70: =IFERROR(VLOOKUP(BQ70,設備機器一覧!C:G,5,FALSE),"") | BV70: 0 | BW70: =IFERROR(VLOOKUP(BQ70,設備機器一覧!C:H,6,FALSE),"")
X72: ( | Y72: =IF($H70="","",IF($B$58=0,"",BR70)) | AD72: ) | AO72: ( | AP72: =IF(AJ70="","",IF($B$58=0,"",IFERROR(Y72*AJ70,""))) | AU72: )
B73: =IF($B$58=0,BS73,IF($B$58=0.5,BU73,IF($B$58=1,"",""))) | H73: =IFERROR(BQ73,"") | X73: =IF($H73="","",IF($B$58=0,BR73,IF($B$58=0.5,BT73,IF($B$58=1,BV73,"")))) | AE73: =IF($H73="","",IF(BR73=0,0,BW73)) | AO73: =IF(AJ73="","",IFERROR(X73*AJ73,"")) | BN73: 5 | BQ73: =VLOOKUP(BN73,設備機器一覧!K:L,2,FALSE) -> #N/A | BR73: =IFERROR(VLOOKUP(BQ73,設備機器一覧!C:G,2,FALSE),0) -> 0 | BS73: =IFERROR(VLOOKUP(BQ73,設備機器一覧!C:G,3,FALSE),"") | BT73: =IFERROR(VLOOKUP(BQ73,設備機器一覧!C:G,4,FALSE),0) -> 0 | BU73: =IFERROR(VLOOKUP(BQ73,設備機器一覧!C:G,5,FALSE),"") | BV73: 0 | BW73: =IFERROR(VLOOKUP(BQ73,設備機器一覧!C:H,6,FALSE),"")
X75: ( | Y75: =IF($H73="","",IF($B$58=0,"",BR73)) | AD75: ) | AO75: ( | AP75: =IF(AJ73="","",IF($B$58=0,"",IFERROR(Y75*AJ73,""))) | AU75: )
B76: =IF($B$58=0,BS76,IF($B$58=0.5,BU76,IF($B$58=1,"",""))) | H76: =IFERROR(BQ76,"") | X76: =IF($H76="","",IF($B$58=0,BR76,IF($B$58=0.5,BT76,IF($B$58=1,BV76,"")))) | AE76: =IF($H76="","",IF(BR76=0,0,BW76)) | AO76: =IF(AJ76="","",IFERROR(X76*AJ76,"")) | BN76: 4 | BQ76: =VLOOKUP(BN76,設備機器一覧!K:L,2,FALSE) -> #N/A | BR76: =IFERROR(VLOOKUP(BQ76,設備機器一覧!C:G,2,FALSE),0) -> 0 | BS76: =IFERROR(VLOOKUP(BQ76,設備機器一覧!C:G,3,FALSE),"") | BT76: =IFERROR(VLOOKUP(BQ76,設備機器一覧!C:G,4,FALSE),0) -> 0 | BU76: =IFERROR(VLOOKUP(BQ76,設備機器一覧!C:G,5,FALSE),"") | BV76: 0 | BW76: =IFERROR(VLOOKUP(BQ76,設備機器一覧!C:H,6,FALSE),"")
X78: ( | Y78: =IF($H76="","",IF($B$58=0,"",BR76)) | AD78: ) | AO78: ( | AP78: =IF(AJ76="","",IF($B$58=0,"",IFERROR(Y78*AJ76,""))) | AU78: )
B79: =IF($B$58=0,BS79,IF($B$58=0.5,BU79,IF($B$58=1,"",""))) | H79: =IFERROR(BQ79,"") | X79: =IF($H79="","",IF($B$58=0,BR79,IF($B$58=0.5,BT79,IF($B$58=1,BV79,"")))) | AE79: =IF($H79="","",IF(BR79=0,0,BW79)) | AO79: =IF(AJ79="","",IFERROR(X79*AJ79,"")) | BN79: 5 | BQ79: =VLOOKUP(BN79,設備機器一覧!K:L,2,FALSE) -> #N/A | BR79: =IFERROR(VLOOKUP(BQ79,設備機器一覧!C:G,2,FALSE),0) -> 0 | BS79: =IFERROR(VLOOKUP(BQ79,設備機器一覧!C:G,3,FALSE),"") | BT79: =IFERROR(VLOOKUP(BQ79,設備機器一覧!C:G,4,FALSE),0) -> 0 | BU79: =IFERROR(VLOOKUP(BQ79,設備機器一覧!C:G,5,FALSE),"") | BV79: 0 | BW79: =IFERROR(VLOOKUP(BQ79,設備機器一覧!C:H,6,FALSE),"")
X81: ( | Y81: =IF($H79="","",IF($B$58=0,"",BR79)) | AD81: ) | AO81: ( | AP81: =IF(AJ79="","",IF($B$58=0,"",IFERROR(Y81*AJ79,""))) | AU81: )
B82: =IF(設備機器一覧!J109=0,"",IF(設備機器一覧!J109>10,"使用する機器の合計が11件以上の場合はセンター職員にお問い合わせ願います",設備機器一覧!J109))
B83: 使用料 【税込み】 | G83: ￥ | I83: =IF(B58=1,0,IF(SUM(AO61,AO64,AO67,AO76,AO79)>0,SUM(AO61,AO64,AO67,AO76,AO79),"")) | S83: =IF($B$58=0,"","←減免後の金額(支払額)") | AC83: 調定決議
H85: （ | I85: =IF(SUM(AP63,AP66,AP69,AP78,AP81)>0,SUM(AP63,AP66,AP69,AP78,AP81),"") | R85: ） | S85: =IF($B$58=0,"","←減免前の金額(参考)") | AC85: 主任 | AI85: 係長 | AO85: 管理部長 | AU85: センター長
AC89: 納入金額
AC91: 納入義務者
Q92: 領収月日 | W92: 領収番号
AC93: 収納済年月日
AC95: 納入通知書発行日
AC97: 納入通知書 | AI97: 調定番号 | AQ97: 確認番号

Sheet 設備使用申請書
B1: 決裁日 | H1: 令和 | N1: 年 | S1: 月 | X1: 日 | AE1: =プルダウン用シート!J1 -> ver8（R8.10.1）
B3: 【実施伺】本件、受諾してよろしいか。
B4: センター長 | G4: 副センター長 | L4: 部長 | Q4: グループ長 | V4: グループ員 | AG4: 担当者
B10: 設備使用申請書
BF11: 今日の日付(参考）
AH13: 令和 | AN13: 年 | AS13: 月 | AY13: 日 | BF13: =YEAR(TODAY())-2018 -> 8 | BH13: =MONTH(TODAY()) -> 9 | BI13: =DAY(TODAY()) -> 28
C15: 茨城県産業技術イノベーションセンター長 殿
AI16: （〒）
AD18: 住 所
AD20: 電話番号
AD22: 事業所名
AD26: 氏 名
C29: 次により，貴センターの設備を使用したいので，申請します。
C32: １．設備の名称 | M32: =設備機器一覧!L109
C35: ２．使用の目的 | BF35: https://www.itic.pref.ibaraki.jp/facility/
C38: ３．使用数量
C41: ４．使用期間 | M41: 令和 | S41: 年 | W41: 月 | AA41: 日から令和 | AK41: 年 | AO41: 月 | AS41: 日まで
C44: （使用時間 | M44: 令和 | T44: 年 | X44: 月 | AB44: 日 | AH44: 時から | AO44: 時まで）
C49: 設備使用者連絡先 | M49: （１） | O49: 所属部署
M51: （２） | O51: 役職・氏名
M53: （３） | O53: TEL
M55: （４） | O55: E-MAIL
U58: 以下センター職員記入欄
B59: 0 | H59: =IF(B59<>0,"()内の金額は減免前の金額です","")
B60: コードNo | H60: 設 備 機 器 名 | X60: 単 価 | AE60: 単位 | AJ60: 単位数 | AO60: 金 額 | AV60: 確 認 者 | BR60: 設 備 名 | BS60: 単価 減免無し | BT60: コード 減免無し | BU60: 単価 50％減免 | BV60: コード 50％減免 | BW60: 単価 100％減免 | BX60: 単位
B62: =IF($B$59=0,BT62,IF($B$59=0.5,BV62,IF($B$59=1,"",""))) | H62: =IFERROR(BR62,"") | X62: =IF($H62="","",IF($B$59=0,BS62,IF($B$59=0.5,BU62,IF($B$59=1,BW62,"")))) | AE62: =IF($H62="","",IF(BS62=0,0,BX62)) | AO62: =IF(AJ62="","",IFERROR(X62*AJ62,"")) | BO62: 1 | BR62: =VLOOKUP(BO62,設備機器一覧!K:L,2,FALSE) -> #N/A | BS62: =IFERROR(VLOOKUP(BR62,設備機器一覧!C:G,2,FALSE),0) -> 0 | BT62: =IFERROR(VLOOKUP(BR62,設備機器一覧!C:G,3,FALSE),"") | BU62: =IFERROR(VLOOKUP(BR62,設備機器一覧!C:G,4,FALSE),0) -> 0 | BV62: =IFERROR(VLOOKUP(BR62,設備機器一覧!C:G,5,FALSE),"") | BW62: 0 | BX62: =IFERROR(VLOOKUP(BR62,設備機器一覧!C:H,6,FALSE),"")
X64: =IF($B$59=0,"","（") | Y64: =IF($H62="","",IF($B$59=0,"",BS62)) | AD64: =IF($B$59=0,"","）") | AO64: =IF($B$59=0,"","（") | AP64: =IF(AJ62="","",IF($B$59=0,"",IFERROR(Y64*AJ62,""))) | AU64: =IF($B$59=0,"","）")
B65: =IF($B$59=0,BT65,IF($B$59=0.5,BV65,IF($B$59=1,"",""))) | H65: =IFERROR(BR65,"") | X65: =IF($H65="","",IF($B$59=0,BS65,IF($B$59=0.5,BU65,IF($B$59=1,BW65,"")))) | AE65: =IF($H65="","",IF(BS65=0,0,BX65)) | AO65: =IF(AJ65="","",IFERROR(X65*AJ65,"")) | BO65: 2 | BR65: =VLOOKUP(BO65,設備機器一覧!K:L,2,FALSE) -> #N/A | BS65: =IFERROR(VLOOKUP(BR65,設備機器一覧!C:G,2,FALSE),0) -> 0 | BT65: =IFERROR(VLOOKUP(BR65,設備機器一覧!C:G,3,FALSE),"") | BU65: =IFERROR(VLOOKUP(BR65,設備機器一覧!C:G,4,FALSE),0) -> 0 | BV65: =IFERROR(VLOOKUP(BR65,設備機器一覧!C:G,5,FALSE),"") | BW65: 0 | BX65: =IFERROR(VLOOKUP(BR65,設備機器一覧!C:H,6,FALSE),"")
X67: =IF($B$59=0,"","（") | Y67: =IF($H65="","",IF($B$59=0,"",BS65)) | AD67: =IF($B$59=0,"","）") | AO67: =IF($B$59=0,"","（") | AP67: =IF(AJ65="","",IF($B$59=0,"",IFERROR(Y67*AJ65,""))) | AU67: =IF($B$59=0,"","）")
B68: =IF($B$59=0,BT68,IF($B$59=0.5,BV68,IF($B$59=1,"",""))) | H68: =IFERROR(BR68,"") | X68: =IF($H68="","",IF($B$59=0,BS68,IF($B$59=0.5,BU68,IF($B$59=1,BW68,"")))) | AE68: =IF($H68="","",IF(BS68=0,0,BX68)) | AO68: =IF(AJ68="","",IFERROR(X68*AJ68,"")) | BO68: 3 | BR68: =VLOOKUP(BO68,設備機器一覧!K:L,2,FALSE) -> #N/A | BS68: =IFERROR(VLOOKUP(BR68,設備機器一覧!C:G,2,FALSE),0) -> 0 | BT68: =IFERROR(VLOOKUP(BR68,設備機器一覧!C:G,3,FALSE),"") | BU68: =IFERROR(VLOOKUP(BR68,設備機器一覧!C:G,4,FALSE),0) -> 0 | BV68: =IFERROR(VLOOKUP(BR68,設備機器一覧!C:G,5,FALSE),"") | BW68: 0 | BX68: =IFERROR(VLOOKUP(BR68,設備機器一覧!C:H,6,FALSE),"")
X70: =IF($B$59=0,"","（") | Y70: =IF($H68="","",IF($B$59=0,"",BS68)) | AD70: =IF($B$59=0,"","）") | AO70: =IF($B$59=0,"","（") | AP70: =IF(AJ68="","",IF($B$59=0,"",IFERROR(Y70*AJ68,""))) | AU70: =IF($B$59=0,"","）")
B71: =IF($B$59=0,BT71,IF($B$59=0.5,BV71,IF($B$59=1,"",""))) | H71: =IFERROR(BR71,"") | X71: =IF($H71="","",IF($B$59=0,BS71,IF($B$59=0.5,BU71,IF($B$59=1,BW71,"")))) | AE71: =IF($H71="","",IF(BS71=0,0,BX71)) | AO71: =IF(AJ71="","",IFERROR(X71*AJ71,"")) | BO71: 4 | BR71: =VLOOKUP(BO71,設備機器一覧!K:L,2,FALSE) -> #N/A | BS71: =IFERROR(VLOOKUP(BR71,設備機器一覧!C:G,2,FALSE),0) -> 0 | BT71: =IFERROR(VLOOKUP(BR71,設備機器一覧!C:G,3,FALSE),"") | BU71: =IFERROR(VLOOKUP(BR71,設備機器一覧!C:G,4,FALSE),0) -> 0 | BV71: =IFERROR(VLOOKUP(BR71,設備機器一覧!C:G,5,FALSE),"") | BW71: 0 | BX71: =IFERROR(VLOOKUP(BR71,設備機器一覧!C:H,6,FALSE),"")
X73: =IF($B$59=0,"","（") | Y73: =IF($H71="","",IF($B$59=0,"",BS71)) | AD73: =IF($B$59=0,"","）") | AO73: =IF($B$59=0,"","（") | AP73: =IF(AJ71="","",IF($B$59=0,"",IFERROR(Y73*AJ71,""))) | AU73: =IF($B$59=0,"","）")
B74: =IF($B$59=0,BT74,IF($B$59=0.5,BV74,IF($B$59=1,"",""))) | H74: =IFERROR(BR74,"") | X74: =IF($H74="","",IF($B$59=0,BS74,IF($B$59=0.5,BU74,IF($B$59=1,BW74,"")))) | AE74: =IF($H74="","",IF(BS74=0,0,BX74)) | AO74: =IF(AJ74="","",IFERROR(X74*AJ74,"")) | BO74: 5 | BR74: =VLOOKUP(BO74,設備機器一覧!K:L,2,FALSE) -> #N/A | BS74: =IFERROR(VLOOKUP(BR74,設備機器一覧!C:G,2,FALSE),0) -> 0 | BT74: =IFERROR(VLOOKUP(BR74,設備機器一覧!C:G,3,FALSE),"") | BU74: =IFERROR(VLOOKUP(BR74,設備機器一覧!C:G,4,FALSE),0) -> 0 | BV74: =IFERROR(VLOOKUP(BR74,設備機器一覧!C:G,5,FALSE),"") | BW74: 0 | BX74: =IFERROR(VLOOKUP(BR74,設備機器一覧!C:H,6,FALSE),"")
X76: =IF($B$59=0,"","（") | Y76: =IF($H74="","",IF($B$59=0,"",BS74)) | AD76: =IF($B$59=0,"","）") | AO76: =IF($B$59=0,"","（") | AP76: =IF(AJ74="","",IF($B$59=0,"",IFERROR(Y76*AJ74,""))) | AU76: =IF($B$59=0,"","）")
B77: =IF($B$59=0,BT77,IF($B$59=0.5,BV77,IF($B$59=1,"",""))) | H77: =IFERROR(BR77,"") | X77: =IF($H77="","",IF($B$59=0,BS77,IF($B$59=0.5,BU77,IF($B$59=1,BW77,"")))) | AE77: =IF($H77="","",IF(BS77=0,0,BX77)) | AO77: =IF(AJ77="","",IFERROR(X77*AJ77,"")) | BO77: 6 | BR77: =VLOOKUP(BO77,設備機器一覧!K:L,2,FALSE) -> #N/A | BS77: =IFERROR(VLOOKUP(BR77,設備機器一覧!C:G,2,FALSE),0) -> 0 | BT77: =IFERROR(VLOOKUP(BR77,設備機器一覧!C:G,3,FALSE),"") | BU77: =IFERROR(VLOOKUP(BR77,設備機器一覧!C:G,4,FALSE),0) -> 0 | BV77: =IFERROR(VLOOKUP(BR77,設備機器一覧!C:G,5,FALSE),"") | BW77: 0 | BX77: =IFERROR(VLOOKUP(BR77,設備機器一覧!C:H,6,FALSE),"")
X79: =IF($B$59=0,"","（") | Y79: =IF($H77="","",IF($B$59=0,"",BS77)) | AD79: =IF($B$59=0,"","）") | AO79: =IF($B$59=0,"","（") | AP79: =IF(AJ77="","",IF($B$59=0,"",IFERROR(Y79*AJ77,""))) | AU79: =IF($B$59=0,"","）")
B80: =IF($B$59=0,BT80,IF($B$59=0.5,BV80,IF($B$59=1,"",""))) | H80: =IFERROR(BR80,"") | X80: =IF($H80="","",IF($B$59=0,BS80,IF($B$59=0.5,BU80,IF($B$59=1,BW80,"")))) | AE80: =IF($H80="","",IF(BS80=0,0,BX80)) | AO80: =IF(AJ80="","",IFERROR(X80*AJ80,"")) | BO80: 7 | BR80: =VLOOKUP(BO80,設備機器一覧!K:L,2,FALSE) -> #N/A | BS80: =IFERROR(VLOOKUP(BR80,設備機器一覧!C:G,2,FALSE),0) -> 0 | BT80: =IFERROR(VLOOKUP(BR80,設備機器一覧!C:G,3,FALSE),"") | BU80: =IFERROR(VLOOKUP(BR80,設備機器一覧!C:G,4,FALSE),0) -> 0 | BV80: =IFERROR(VLOOKUP(BR80,設備機器一覧!C:G,5,FALSE),"") | BW80: 0 | BX80: =IFERROR(VLOOKUP(BR80,設備機器一覧!C:H,6,FALSE),"")
X82: =IF($B$59=0,"","（") | Y82: =IF($H80="","",IF($B$59=0,"",BS80)) | AD82: =IF($B$59=0,"","）") | AO82: =IF($B$59=0,"","（") | AP82: =IF(AJ80="","",IF($B$59=0,"",IFERROR(Y82*AJ80,""))) | AU82: =IF($B$59=0,"","）")
B83: =IF(設備機器一覧!J109=0,"",IF(設備機器一覧!J109>7,"使用する機器の合計が8件以上の場合はセンター職員にお問い合わせ願います",設備機器一覧!J109))
B84: 使用料 【税込み】 | G84: ￥ | I84: =IF(B59=1,0,IF(SUM(AO62,AO65,AO68,AO71,AO74)>0,SUM(AO62,AO65,AO68,AO71,AO74),"")) | S84: =IF($B$59=0,"","←減免後の金額(支払額)") | AC84: 調定決議
H86: =IF($B$59=0,"","（") | I86: =IF(SUM(AP64,AP67,AP70,AP73,AP76)>0,SUM(AP64,AP67,AP70,AP73,AP76),"") | R86: =IF($B$59=0,"","）") | S86: =IF($B$59=0,"","←減免前の金額(参考)") | AC86: 主任 | AI86: 係長 | AO86: 管理部長 | AU86: センター長
AC90: 納入金額
AC92: 納入義務者
Q93: 領収月日 | W93: 領収番号
AC94: 収納済年月日
AC96: 納入通知書発行日
AC98: 納入通知書 | AI98: 調定番号 | AQ98: 確認番号

Sheet 誓約書【記入例】
A3: 誓 約 書
J9: 令和 | K9: 8 | L9: 年 | M9: 4 | N9: 月 | O9: 1 | P9: 日
B12: 茨城県産業技術イノベーションセンター長 殿
H15: 住 所 | J15: 茨城県東茨城郡茨城町長岡3781-1
H16: 電話番号 | J16: 029-293-7212
H17: 事業所名 | J17: 茨城県産業技術イノベーションセンター
H18: 事業主名 （代表者） | J18: 代表取締役 茨城 太郎
B22: 私、このたび設備使用者 | F22: 水戸 次郎 | I22: が貴所の試験機器の設備を使用
B23: することにつきましては、以下を遵守することを誓約します。
B25: １ 関係規定及び茨城県産業技術イノベーションセンター職員の指示に従います。 ２ 設備使用にあたっては、申請書に記載した目的以外の利用はいたしません。 ３ 設備使用にあたって、必要な工具、原材料は当社（使用者）の負担で持参し、持参した もの及び発生した廃棄物等は当社（使用者）がすべて持ち帰ります。 ４ 当社（使用者）が故意又は自らの過失により試験機器等を滅失又はき損した場合は、 当社（使用者）が滅失又はき損した当該機器の補てん又は修理等を行い、茨城県産業 技術イノベーションセンターに損害を賠償します。 ５ 次に掲げる(1)または(2)により当社（使用者）が被った損害については、当社（使用者） が全責任を負い、茨城県産業技術イノベーションセンターに損害賠償等の請求は一切 行いません。 (1) 当社（使用者）の故意又は過失により発生した事故 (2) 自然災害 ６ 設備使用により得られたデータを公開する場合は、茨城県及び茨城県産業技術 イノベーションセンターの名称を一切使用いたしません。

Sheet 誓約書
A3: 誓 約 書
J9: 令和 | K9: =設備使用申請書!AK13 -> 0 | L9: 年 | M9: =設備使用申請書!AP13 -> 0 | N9: 月 | O9: =設備使用申請書!AU13 -> 0 | P9: 日
B12: 茨城県産業技術イノベーションセンター長 殿
H15: 住 所 | J15: =設備使用申請書!AJ18 -> 0
H16: 電話番号 | J16: =設備使用申請書!AJ20 -> 0
H17: 事業所名 | J17: =設備使用申請書!AJ22 -> 0
H18: 事業主名 （代表者）
B22: 私、このたび設備使用者 | I22: が貴所の試験機器の設備を使用
B23: することにつきましては、以下を遵守することを誓約します。
B25: １ 関係規定及び茨城県産業技術イノベーションセンター職員の指示に従います。 ２ 設備使用にあたっては、申請書に記載した目的以外の利用はいたしません。 ３ 設備使用にあたって、必要な工具、原材料は当社（使用者）の負担で持参し、持参した もの及び発生した廃棄物等は当社（使用者）がすべて持ち帰ります。 ４ 当社（使用者）が故意又は自らの過失により試験機器等を滅失又はき損した場合は、 当社（使用者）が滅失又はき損した当該機器の補てん又は修理等を行い、茨城県産業 技術イノベーションセンターに損害を賠償します。 ５ 次に掲げる(1)または(2)により当社（使用者）が被った損害については、当社（使用者） が全責任を負い、茨城県産業技術イノベーションセンターに損害賠償等の請求は一切 行いません。 (1) 当社（使用者）の故意又は過失により発生した事故 (2) 自然災害 ６ 設備使用により得られたデータを公開する場合は、茨城県及び茨城県産業技術 イノベーションセンターの名称を一切使用いたしません。

Sheet 設備機器一覧
A1: 設備区分 | C1: 設備機器名 | D1: 単価 | E1: コード | F1: 50％減免 | G1: コード | H1: 単位 | L1: 使用する機器
A2: すべての機器 | C2: 強度試験機器 | L2: =IF(K2>0,C2,"")
A3: 強度試験機器 | C3: インストロン万能試験機(15トン) | D3: 1650 | E3: 5101 | F3: =ROUNDDOWN(D3/2,-1) -> 820 | G3: 7101 | H3: 時間 | J3: FALSE | K3: =IF(J3=TRUE,COUNTIF(J$3:J3,TRUE),0) -> 0 | L3: =IF(K3>=1,C3,"")
A4: 摩擦・摩耗試験機器 | C4: 落下試験機 | D4: 1870 | E4: 5103 | F4: =ROUNDDOWN(D4/2,-1) -> 930 | G4: 7103 | H4: 時間 | J4: FALSE | K4: =IF(J4=TRUE,COUNTIF(J$3:J4,TRUE),0) -> 0 | L4: =IF(K4>=1,C4,"")
A5: 硬度試験機器 | C5: シャルピー衝撃試験機 | D5: 1760 | E5: 5104 | F5: =ROUNDDOWN(D5/2,-1) -> 880 | G5: 7104 | H5: 時間 | J5: FALSE | K5: =IF(J5=TRUE,COUNTIF(J$3:J5,TRUE),0) -> 0 | L5: =IF(K5>=1,C5,"")
A6: 物性試験・薄膜作成等機器 | C6: 摩擦・摩耗試験機器 | K6: =IF(J6=TRUE,COUNTIF(J$3:J6,TRUE),0) -> 0 | L6: =IF(K6>=1,C6,"")
A7: 洗浄関連機器 | C7: スガ摩耗試験機 | D7: 550 | E7: 5201 | F7: =ROUNDDOWN(D7/2,-1) -> 270 | G7: 7201 | H7: 時間 | J7: FALSE | K7: =IF(J7=TRUE,COUNTIF(J$3:J7,TRUE),0) -> 0 | L7: =IF(K7>0,C7,"")
A8: 電気試験機器 | C8: 硬度試験機器 | K8: =IF(J8=TRUE,COUNTIF(J$3:J8,TRUE),0) -> 0 | L8: =IF(K8>0,C8,"")
A9: 耐候試験機器 | C9: 微小ビッカース硬さ試験機 | D9: 1320 | E9: 5301 | F9: =ROUNDDOWN(D9/2,-1) -> 660 | G9: 7301 | H9: 時間 | J9: FALSE | K9: =IF(J9=TRUE,COUNTIF(J$3:J9,TRUE),0) -> 0 | L9: =IF(K9>0,C9,"")
A10: 微生物試験関連機器 | C10: ブリネル硬度計 | D10: 660 | E10: 5302 | F10: =ROUNDDOWN(D10/2,-1) -> 330 | G10: 7302 | H10: 時間 | J10: FALSE | K10: =IF(J10=TRUE,COUNTIF(J$3:J10,TRUE),0) -> 0 | L10: =IF(K10>0,C10,"")
A11: 金属工作機械 | C11: ロックウェル硬度計 | D11: 1320 | E11: 5303 | F11: =ROUNDDOWN(D11/2,-1) -> 660 | G11: 7303 | H11: 時間 | J11: FALSE | K11: =IF(J11=TRUE,COUNTIF(J$3:J11,TRUE),0) -> 0 | L11: =IF(K11>0,C11,"")
A12: 木材工作機械 | C12: 物性試験・薄膜作成等機器 | K12: =IF(J12=TRUE,COUNTIF(J$3:J12,TRUE),0) -> 0 | L12: =IF(K12>0,C12,"")
A13: 設計支援機器 | C13: 熱間埋込機(樹脂の包埋) | D13: 1210 | E13: 5401 | F13: =ROUNDDOWN(D13/2,-1) -> 600 | G13: 7401 | H13: 時間 | J13: FALSE | K13: =IF(J13=TRUE,COUNTIF(J$3:J13,TRUE),0) -> 0 | L13: =IF(K13>0,C13,"") | N13: https://www.itic.pref.ibaraki.jp/facility/
A14: 自動化技術支援機器 | C14: 蛍光エックス線膜厚計 | D14: 1870 | E14: 5402 | F14: =ROUNDDOWN(D14/2,-1) -> 930 | G14: 7402 | H14: 時間 | J14: FALSE | K14: =IF(J14=TRUE,COUNTIF(J$3:J14,TRUE),0) -> 0 | L14: =IF(K14>0,C14,"")
A15: 食品加工試験機 | C15: 微小蛍光エックス線分析装置 | D15: 3520 | E15: 5404 | F15: =ROUNDDOWN(D15/2,-1) -> 1760 | G15: 7404 | H15: 時間 | J15: FALSE | K15: =IF(J15=TRUE,COUNTIF(J$3:J15,TRUE),0) -> 0 | L15: =IF(K15>0,C15,"")
A16: 食品加工機器 | C16: ICP発光分析装置 | D16: 6050 | E16: 5405 | F16: =ROUNDDOWN(D16/2,-1) -> 3020 | G16: 7405 | H16: 時間 | J16: FALSE | K16: =IF(J16=TRUE,COUNTIF(J$3:J16,TRUE),0) -> 0 | L16: =IF(K16>0,C16,"")
C17: 原子吸光分析装置 | D17: 4400 | E17: 5431 | F17: =ROUNDDOWN(D17/2,-1) -> 2200 | G17: 7431 | H17: 時間 | J17: FALSE | K17: =IF(J17=TRUE,COUNTIF(J$3:J17,TRUE),0) -> 0 | L17: =IF(K17>0,C17,"")
C18: マイクロ波加熱分解装置 | D18: 2640 | E18: 5406 | F18: =ROUNDDOWN(D18/2,-1) -> 1320 | G18: 7406 | H18: 時間 | J18: FALSE | K18: =IF(J18=TRUE,COUNTIF(J$3:J18,TRUE),0) -> 0 | L18: =IF(K18>0,C18,"")
C19: 赤外分光光度計 | D19: 3520 | E19: 5407 | F19: =ROUNDDOWN(D19/2,-1) -> 1760 | G19: 7407 | H19: 時間 | J19: FALSE | K19: =IF(J19=TRUE,COUNTIF(J$3:J19,TRUE),0) -> 0 | L19: =IF(K19>0,C19,"")
C20: ドラフトチャンバー | D20: 1650 | E20: 5408 | F20: =ROUNDDOWN(D20/2,-1) -> 820 | G20: 7408 | H20: 時間 | J20: FALSE | K20: =IF(J20=TRUE,COUNTIF(J$3:J20,TRUE),0) -> 0 | L20: =IF(K20>0,C20,"")
C21: 三次元測定機 | D21: 2860 | E21: 5409 | F21: =ROUNDDOWN(D21/2,-1) -> 1430 | G21: 7409 | H21: 時間 | J21: FALSE | K21: =IF(J21=TRUE,COUNTIF(J$3:J21,TRUE),0) -> 0 | L21: =IF(K21>0,C21,"")
C22: 金属顕微鏡(組織解析機能付) | D22: 1760 | E22: 5410 | F22: =ROUNDDOWN(D22/2,-1) -> 880 | G22: 7410 | H22: 時間 | J22: FALSE | K22: =IF(J22=TRUE,COUNTIF(J$3:J22,TRUE),0) -> 0 | L22: =IF(K22>0,C22,"")
C23: カーボンコーター(カーボンコーティング) | D23: 880 | E23: 5411 | F23: =ROUNDDOWN(D23/2,-1) -> 440 | G23: 7411 | H23: 時間 | J23: FALSE | K23: =IF(J23=TRUE,COUNTIF(J$3:J23,TRUE),0) -> 0 | L23: =IF(K23>0,C23,"")
C24: スパッタリング装置 | D24: 2420 | E24: 5412 | F24: =ROUNDDOWN(D24/2,-1) -> 1210 | G24: 7412 | H24: 時間 | J24: FALSE | K24: =IF(J24=TRUE,COUNTIF(J$3:J24,TRUE),0) -> 0 | L24: =IF(K24>0,C24,"") | N24: =J109 -> 0
C25: 雰囲気中液体急冷装置(アモルファス合金製造) | D25: 3080 | E25: 5413 | F25: =ROUNDDOWN(D25/2,-1) -> 1540 | G25: 7413 | H25: 時間 | J25: FALSE | K25: =IF(J25=TRUE,COUNTIF(J$3:J25,TRUE),0) -> 0 | L25: =IF(K25>0,C25,"")
C26: 走査型電子顕微鏡 | D26: 3520 | E26: 5414 | F26: =ROUNDDOWN(D26/2,-1) -> 1760 | G26: 7414 | H26: 時間 | J26: FALSE | K26: =IF(J26=TRUE,COUNTIF(J$3:J26,TRUE),0) -> 0 | L26: =IF(K26>0,C26,"")
C27: モノクロメーター付キセノンランプ | D27: 1320 | E27: 5415 | F27: =ROUNDDOWN(D27/2,-1) -> 660 | G27: 7415 | H27: 時間 | J27: FALSE | K27: =IF(J27=TRUE,COUNTIF(J$3:J27,TRUE),0) -> 0 | L27: =IF(K27>0,C27,"")
C28: 粒度分布測定装置 | D28: 1650 | E28: 5416 | F28: =ROUNDDOWN(D28/2,-1) -> 820 | G28: 7416 | H28: 時間 | J28: FALSE | K28: =IF(J28=TRUE,COUNTIF(J$3:J28,TRUE),0) -> 0 | L28: =IF(K28>0,C28,"")
C29: 走査型プローブ顕微鏡 | D29: 6160 | E29: 5417 | F29: =ROUNDDOWN(D29/2,-1) -> 3080 | G29: 7417 | H29: 時間 | J29: FALSE | K29: =IF(J29=TRUE,COUNTIF(J$3:J29,TRUE),0) -> 0 | L29: =IF(K29>0,C29,"")
C30: 試料研磨機 | D30: 1210 | E30: 5418 | F30: =ROUNDDOWN(D30/2,-1) -> 600 | G30: 7418 | H30: 時間 | J30: FALSE | K30: =IF(J30=TRUE,COUNTIF(J$3:J30,TRUE),0) -> 0 | L30: =IF(K30>0,C30,"")
C31: 放電プラズマ焼結装置 | D31: 3630 | E31: 5419 | F31: =ROUNDDOWN(D31/2,-1) -> 1810 | G31: 7419 | H31: 時間 | J31: FALSE | K31: =IF(J31=TRUE,COUNTIF(J$3:J31,TRUE),0) -> 0 | L31: =IF(K31>0,C31,"")
C32: ラマン分光分析装置 | D32: 2530 | E32: 5420 | F32: =ROUNDDOWN(D32/2,-1) -> 1260 | G32: 7420 | H32: 時間 | J32: FALSE | K32: =IF(J32=TRUE,COUNTIF(J$3:J32,TRUE),0) -> 0 | L32: =IF(K32>0,C32,"")
C33: 表面粗さ輪郭形状測定機 | D33: 2090 | E33: 5421 | F33: =ROUNDDOWN(D33/2,-1) -> 1040 | G33: 7421 | H33: 時間 | J33: FALSE | K33: =IF(J33=TRUE,COUNTIF(J$3:J33,TRUE),0) -> 0 | L33: =IF(K33>0,C33,"")
C34: 炭素硫黄分析装置 | D34: 2760 | E34: 5422 | F34: =ROUNDDOWN(D34/2,-1) -> 1380 | G34: 7422 | H34: 時間 | J34: FALSE | K34: =IF(J34=TRUE,COUNTIF(J$3:J34,TRUE),0) -> 0 | L34: =IF(K34>0,C34,"")
C35: エックス線残留応力測定装置 | D35: 3410 | E35: 5423 | F35: =ROUNDDOWN(D35/2,-1) -> 1700 | G35: 7423 | H35: 時間 | J35: FALSE | K35: =IF(J35=TRUE,COUNTIF(J$3:J35,TRUE),0) -> 0 | L35: =IF(K35>0,C35,"")
C36: レーザー顕微鏡 | D36: 2090 | E36: 5424 | F36: =ROUNDDOWN(D36/2,-1) -> 1040 | G36: 7424 | H36: 時間 | J36: FALSE | K36: =IF(J36=TRUE,COUNTIF(J$3:J36,TRUE),0) -> 0 | L36: =IF(K36>0,C36,"")
... C42: 画像測定機 | D42: 1870 | E42: 5430 | F42: =ROUNDDOWN(D42/2,-1) -> 930 | G42: 7430 | H42: 時間 | J42: FALSE | K42: =IF(J42=TRUE,COUNTIF(J$3:J42,TRUE),0) -> 0 | L42: =IF(K42>0,C42,"")
C43: 電気試験機器 | K43: =IF(J43=TRUE,COUNTIF(J$3:J43,TRUE),0) -> 0 | L43: =IF(K43>0,C43,"")
C44: RFイミュニティ機器 | D44: 8580 | E44: 5601 | F44: =ROUNDDOWN(D44/2,-1) -> 4290 | G44: 7601 | H44: 時間 | J44: FALSE | K44: =IF(J44=TRUE,COUNTIF(J$3:J44,TRUE),0) -> 0 | L44: =IF(K44>0,C44,"")
C45: 耐ノイズ試験機 | D45: 4620 | E45: 5602 | F45: =ROUNDDOWN(D45/2,-1) -> 2310 | G45: 7602 | H45: 時間 | J45: FALSE | K45: =IF(J45=TRUE,COUNTIF(J$3:J45,TRUE),0) -> 0 | L45: =IF(K45>0,C45,"")
C46: EMI機器 | D46: 6710 | E46: 5603 | F46: =ROUNDDOWN(D46/2,-1) -> 3350 | G46: 7603 | H46: 時間 | J46: FALSE | K46: =IF(J46=TRUE,COUNTIF(J$3:J46,TRUE),0) -> 0 | L46: =IF(K46>0,C46,"")
C47: 電源変動許容度試験器 | D47: 2750 | E47: 5604 | F47: =ROUNDDOWN(D47/2,-1) -> 1370 | G47: 7604 | H47: 時間 | J47: FALSE | K47: =IF(J47=TRUE,COUNTIF(J$3:J47,TRUE),0) -> 0 | L47: =IF(K47>0,C47,"")
C48: 絶縁耐圧試験器 | D48: 1320 | E48: 5605 | F48: =ROUNDDOWN(D48/2,-1) -> 660 | G48: 7605 | H48: 時間 | J48: FALSE | K48: =IF(J48=TRUE,COUNTIF(J$3:J48,TRUE),0) -> 0 | L48: =IF(K48>0,C48,"")
C49: 漏れ電流試験器 | D49: 1870 | E49: 5606 | F49: =ROUNDDOWN(D49/2,-1) -> 930 | G49: 7606 | H49: 時間 | J49: FALSE | K49: =IF(J49=TRUE,COUNTIF(J$3:J49,TRUE),0) -> 0 | L49: =IF(K49>0,C49,"")
C50: 抵抗計 | D50: 1100 | E50: 5607 | F50: =ROUNDDOWN(D50/2,-1) -> 550 | G50: 7607 | H50: 時間 | J50: FALSE | K50: =IF(J50=TRUE,COUNTIF(J$3:J50,TRUE),0) -> 0 | L50: =IF(K50>0,C50,"")
C51: 通信環境評価装置 | D51: 4730 | E51: 5608 | F51: =ROUNDDOWN(D51/2,-1) -> 2360 | G51: 7608 | H51: 時間 | J51: FALSE | K51: =IF(J51=TRUE,COUNTIF(J$3:J51,TRUE),0) -> 0 | L51: =IF(K51>0,C51,"")
C52: 電磁界可視化装置 | D52: 3410 | E52: 5609 | F52: =ROUNDDOWN(D52/2,-1) -> 1700 | G52: 7609 | H52: 時間 | J52: FALSE | K52: =IF(J52=TRUE,COUNTIF(J$3:J52,TRUE),0) -> 0 | L52: =IF(K52>0,C52,"")
C53: 汎用型オシロスコープ | D53: 880 | E53: 5610 | F53: =ROUNDDOWN(D53/2,-1) -> 440 | G53: 7610 | H53: 時間 | J53: FALSE | K53: =IF(J53=TRUE,COUNTIF(J$3:J53,TRUE),0) -> 0 | L53: =IF(K53>0,C53,"")
C54: 耐候試験機器 | K54: =IF(J54=TRUE,COUNTIF(J$3:J54,TRUE),0) -> 0 | L54: =IF(K54>0,C54,"")
C55: 恒温恒湿器(1時間) | D55: 3080 | E55: 5703 | F55: =ROUNDDOWN(D55/2,-1) -> 1540 | G55: 7703 | H55: 時間 | J55: FALSE | K55: =IF(J55=TRUE,COUNTIF(J$3:J55,TRUE),0) -> 0 | L55: =IF(K55>0,C55,"")
C56: 恒温恒湿器(1時間超毎) | D56: 660 | E56: 5704 | F56: =ROUNDDOWN(D56/2,-1) -> 330 | G56: 7704 | H56: 時間 | J56: FALSE | K56: =IF(J56=TRUE,COUNTIF(J$3:J56,TRUE),0) -> 0 | L56: =IF(K56>0,C56,"")
C57: 卓上型塩水噴霧試験機 | D57: 1540 | E57: 5705 | F57: =ROUNDDOWN(D57/2,-1) -> 770 | G57: 7705 | H57: 時間 | J57: FALSE | K57: =IF(J57=TRUE,COUNTIF(J$3:J57,TRUE),0) -> 0 | L57: =IF(K57>0,C57,"")
C58: 微生物試験関連機器 | K58: =IF(J58=TRUE,COUNTIF(J$3:J58,TRUE),0) -> 0 | L58: =IF(K58>0,C58,"")
C59: オートクレーブ | D59: 990 | E59: 5801 | F59: =ROUNDDOWN(D59/2,-1) -> 490 | G59: 7801 | H59: 時間 | J59: FALSE | K59: =IF(J59=TRUE,COUNTIF(J$3:J59,TRUE),0) -> 0 | L59: =IF(K59>0,C59,"")
C60: 低温恒温器 | D60: 2090 | E60: 5802 | F60: =ROUNDDOWN(D60/2,-1) -> 1040 | G60: 7802 | H60: 日 | J60: FALSE | K60: =IF(J60=TRUE,COUNTIF(J$3:J60,TRUE),0) -> 0 | L60: =IF(K60>0,C60,"")
C61: 金属工作機械 | K61: =IF(J61=TRUE,COUNTIF(J$3:J61,TRUE),0) -> 0 | L61: =IF(K61>0,C61,"")
C62: 切断機 | D62: 880 | E62: 5902 | F62: =ROUNDDOWN(D62/2,-1) -> 440 | G62: 7902 | H62: 時間 | J62: FALSE | K62: =IF(J62=TRUE,COUNTIF(J$3:J62,TRUE),0) -> 0 | L62: =IF(K62>0,C62,"")
C63: 油圧サーボプレス機(110トン) | D63: 4180 | E63: 5904 | F63: =ROUNDDOWN(D63/2,-1) -> 2090 | G63: 7904 | H63: 時間 | J63: FALSE | K63: =IF(J63=TRUE,COUNTIF(J$3:J63,TRUE),0) -> 0 | L63: =IF(K63>0,C63,"")
C64: ダイカストマシンシステム | D64: 176660 | E64: 5905 | F64: =ROUNDDOWN(D64/2,-1) -> 88330 | G64: 7905 | H64: 日 | J64: FALSE | K64: =IF(J64=TRUE,COUNTIF(J$3:J64,TRUE),0) -> 0 | L64: =IF(K64>0,C64,"")
C65: 温間圧延機 | D65: 35860 | E65: 5906 | F65: =ROUNDDOWN(D65/2,-1) -> 17930 | G65: 7906 | H65: 日 | J65: FALSE | K65: =IF(J65=TRUE,COUNTIF(J$3:J65,TRUE),0) -> 0 | L65: =IF(K65>0,C65,"")
C66: ダイヤモンドワイヤー切断機 | D66: 4180 | E66: 5907 | F66: =ROUNDDOWN(D66/2,-1) -> 2090 | G66: 7907 | H66: 時間 | J66: FALSE | K66: =IF(J66=TRUE,COUNTIF(J$3:J66,TRUE),0) -> 0 | L66: =IF(K66>0,C66,"")
C67: 木材工作機械 | K67: =IF(J67=TRUE,COUNTIF(J$3:J67,TRUE),0) -> 0 | L67: =IF(K67>0,C67,"")
C68: 超仕上鉋盤 | D68: 600 | E68: 6002 | F68: =ROUNDDOWN(D68/2,-1) -> 300 | G68: 8002 | H68: 時間 | J68: FALSE | K68: =IF(J68=TRUE,COUNTIF(J$3:J68,TRUE),0) -> 0 | L68: =IF(K68>0,C68,"")
C69: 手押し鉋盤 | D69: 550 | E69: 6003 | F69: =ROUNDDOWN(D69/2,-1) -> 270 | G69: 8003 | H69: 時間 | J69: FALSE | K69: =IF(J69=TRUE,COUNTIF(J$3:J69,TRUE),0) -> 0 | L69: =IF(K69>0,C69,"")
C70: バンドソー | D70: 550 | E70: 6004 | F70: =ROUNDDOWN(D70/2,-1) -> 270 | G70: 8004 | H70: 時間 | J70: FALSE | K70: =IF(J70=TRUE,COUNTIF(J$3:J70,TRUE),0) -> 0 | L70: =IF(K70>0,C70,"")
C71: 自動一面鉋盤 | D71: 950 | E71: 6006 | F71: =ROUNDDOWN(D71/2,-1) -> 470 | G71: 8006 | H71: 時間 | J71: FALSE | K71: =IF(J71=TRUE,COUNTIF(J$3:J71,TRUE),0) -> 0 | L71: =IF(K71>0,C71,"")
C72: 木工旋盤 | D72: 230 | E72: 6007 | F72: =ROUNDDOWN(D72/2,-1) -> 110 | G72: 8007 | H72: 時間 | J72: FALSE | K72: =IF(J72=TRUE,COUNTIF(J$3:J72,TRUE),0) -> 0 | L72: =IF(K72>0,C72,"")
C73: 設計支援機器 | K73: =IF(J73=TRUE,COUNTIF(J$3:J73,TRUE),0) -> 0 | L73: =IF(K73>0,C73,"")
C74: 大判インクジェットプリンタ(B0) | D74: 3080 | E74: 6101 | F74: =ROUNDDOWN(D74/2,-1) -> 1540 | G74: 8101 | H74: 枚・B0判 | J74: FALSE | K74: =IF(J74=TRUE,COUNTIF(J$3:J74,TRUE),0) -> 0 | L74: =IF(K74>0,C74,"")
C75: 大判インクジェットプリンタ(A0) | D75: 2420 | E75: 6102 | F75: =ROUNDDOWN(D75/2,-1) -> 1210 | G75: 8102 | H75: 枚・A0判 | J75: FALSE | K75: =IF(J75=TRUE,COUNTIF(J$3:J75,TRUE),0) -> 0 | L75: =IF(K75>0,C75,"")
C76: 大判インクジェットプリンタ(A1) | D76: 1760 | E76: 6103 | F76: =ROUNDDOWN(D76/2,-1) -> 880 | G76: 8103 | H76: 枚・A1判 | J76: FALSE | K76: =IF(J76=TRUE,COUNTIF(J$3:J76,TRUE),0) -> 0 | L76: =IF(K76>0,C76,"")
C77: 大判インクジェットプリンタ(A2) | D77: 1430 | E77: 6104 | F77: =ROUNDDOWN(D77/2,-1) -> 710 | G77: 8104 | H77: 枚・A2判 | J77: FALSE | K77: =IF(J77=TRUE,COUNTIF(J$3:J77,TRUE),0) -> 0 | L77: =IF(K77>0,C77,"")
C78: 簡易3Dスキャナ | D78: 440 | E78: 6106 | F78: =ROUNDDOWN(D78/2,-1) -> 220 | G78: 8106 | H78: 時間 | J78: FALSE | K78: =IF(J78=TRUE,COUNTIF(J$3:J78,TRUE),0) -> 0 | L78: =IF(K78>0,C78,"")
C79: 三次元デジタイザ | D79: 1980 | E79: 6107 | F79: =ROUNDDOWN(D79/2,-1) -> 990 | G79: 8107 | H79: 時間 | J79: FALSE | K79: =IF(J79=TRUE,COUNTIF(J$3:J79,TRUE),0) -> 0 | L79: =IF(K79>0,C79,"")
C80: 自動化技術支援機器 | K80: =IF(J80=TRUE,COUNTIF(J$3:J80,TRUE),0) -> 0 | L80: =IF(K80>0,C80,"")
C81: 加工工程模擬ライン装置 | D81: 1320 | E81: 6201 | F81: =ROUNDDOWN(D81/2,-1) -> 660 | G81: 8201 | H81: 時間 | J81: FALSE | K81: =IF(J81=TRUE,COUNTIF(J$3:J81,TRUE),0) -> 0 | L81: =IF(K81>0,C81,"")
C82: 組立工程模擬ライン装置 | D82: 1320 | E82: 6202 | F82: =ROUNDDOWN(D82/2,-1) -> 660 | G82: 8202 | H82: 時間 | J82: FALSE | K82: =IF(J82=TRUE,COUNTIF(J$3:J82,TRUE),0) -> 0 | L82: =IF(K82>0,C82,"")
C83: 検査工程模擬ライン装置 | D83: 1320 | E83: 6203 | F83: =ROUNDDOWN(D83/2,-1) -> 660 | G83: 8203 | H83: 時間 | J83: FALSE | K83: =IF(J83=TRUE,COUNTIF(J$3:J83,TRUE),0) -> 0 | L83: =IF(K83>0,C83,"")
C84: 撮像検証システム | D84: 1430 | E84: 6204 | F84: =ROUNDDOWN(D84/2,-1) -> 710 | G84: 8204 | H84: 時間 | J84: FALSE | K84: =IF(J84=TRUE,COUNTIF(J$3:J84,TRUE),0) -> 0 | L84: =IF(K84>0,C84,"")
C85: 食品等分析・観察機器 | K85: =IF(J85=TRUE,COUNTIF(J$3:J85,TRUE),0) -> 0 | L85: =IF(K85>0,C85,"")
C86: アルコール分析機 | D86: 770 | E86: 6301 | F86: =ROUNDDOWN(D86/2,-1) -> 380 | G86: 8301 | H86: 時間 | J86: FALSE | K86: =IF(J86=TRUE,COUNTIF(J$3:J86,TRUE),0) -> 0 | L86: =IF(K86>0,C86,"")
C87: ガス透過率測定機 | D87: 2750 | E87: 6302 | F87: =ROUNDDOWN(D87/2,-1) -> 1370 | G87: 8302 | H87: 時間 | J87: FALSE | K87: =IF(J87=TRUE,COUNTIF(J$3:J87,TRUE),0) -> 0 | L87: =IF(K87>0,C87,"")
C88: 赤外線水分計 | D88: 990 | E88: 6303 | F88: =ROUNDDOWN(D88/2,-1) -> 490 | G88: 8303 | H88: 時間 | J88: FALSE | K88: =IF(J88=TRUE,COUNTIF(J$3:J88,TRUE),0) -> 0 | L88: =IF(K88>0,C88,"")
C89: 穀粒判別機 | D89: 1100 | E89: 6304 | F89: =ROUNDDOWN(D89/2,-1) -> 550 | G89: 8304 | H89: 時間 | J89: FALSE | K89: =IF(J89=TRUE,COUNTIF(J$3:J89,TRUE),0) -> 0 | L89: =IF(K89>0,C89,"")
C90: 水分活性測定装置 | D90: 1100 | E90: 6305 | F90: =ROUNDDOWN(D90/2,-1) -> 550 | G90: 8305 | H90: 時間 | J90: FALSE | K90: =IF(J90=TRUE,COUNTIF(J$3:J90,TRUE),0) -> 0 | L90: =IF(K90>0,C90,"")
C91: テンシプレッサー | D91: 880 | E91: 6306 | F91: =ROUNDDOWN(D91/2,-1) -> 440 | G91: 8306 | H91: 時間 | J91: FALSE | K91: =IF(J91=TRUE,COUNTIF(J$3:J91,TRUE),0) -> 0 | L91: =IF(K91>0,C91,"")
C92: 食品加工試験機 | K92: =IF(J92=TRUE,COUNTIF(J$3:J92,TRUE),0) -> 0 | L92: =IF(K92>0,C92,"")
C93: 高温高圧調理滅菌機 | D93: 2970 | E93: 6401 | F93: =ROUNDDOWN(D93/2,-1) -> 1480 | G93: 8401 | H93: 時間 | J93: FALSE | K93: =IF(J93=TRUE,COUNTIF(J$3:J93,TRUE),0) -> 0 | L93: =IF(K93>0,C93,"")
C94: ドラムドライヤー | D94: 1760 | E94: 6402 | F94: =ROUNDDOWN(D94/2,-1) -> 880 | G94: 8402 | H94: 時間 | J94: FALSE | K94: =IF(J94=TRUE,COUNTIF(J$3:J94,TRUE),0) -> 0 | L94: =IF(K94>0,C94,"")
C95: 微粉砕試験機 | D95: 1000 | E95: 6403 | F95: =ROUNDDOWN(D95/2,-1) -> 500 | G95: 8403 | H95: 時間 | J95: FALSE | K95: =IF(J95=TRUE,COUNTIF(J$3:J95,TRUE),0) -> 0 | L95: =IF(K95>0,C95,"")
C96: ピンミル | D96: 1760 | E96: 6405 | F96: =ROUNDDOWN(D96/2,-1) -> 880 | G96: 8405 | H96: 時間 | J96: FALSE | K96: =IF(J96=TRUE,COUNTIF(J$3:J96,TRUE),0) -> 0 | L96: =IF(K96>0,C96,"")
C97: オーブン | D97: 880 | E97: 6406 | F97: =ROUNDDOWN(D97/2,-1) -> 440 | G97: 8406 | H97: 時間 | J97: FALSE | K97: =IF(J97=TRUE,COUNTIF(J$3:J97,TRUE),0) -> 0 | L97: =IF(K97>0,C97,"")
C98: スチーマーボックス | D98: 2750 | E98: 6407 | F98: =ROUNDDOWN(D98/2,-1) -> 1370 | G98: 8407 | H98: 時間 | J98: FALSE | K98: =IF(J98=TRUE,COUNTIF(J$3:J98,TRUE),0) -> 0 | L98: =IF(K98>0,C98,"")
C99: 製麺機 | D99: 2530 | E99: 6410 | F99: =ROUNDDOWN(D99/2,-1) -> 1260 | G99: 8410 | H99: 時間 | J99: FALSE | K99: =IF(J99=TRUE,COUNTIF(J$3:J99,TRUE),0) -> 0 | L99: =IF(K99>0,C99,"")
C100: 真空凍結乾燥機 | D100: 990 | E100: 6411 | F100: =ROUNDDOWN(D100/2,-1) -> 490 | G100: 8411 | H100: 時間 | J100: FALSE | K100: =IF(J100=TRUE,COUNTIF(J$3:J100,TRUE),0) -> 0 | L100: =IF(K100>0,C100,"")
C101: 人工太陽照明システム | D101: 990 | E101: 6412 | F101: =ROUNDDOWN(D101/2,-1) -> 490 | G101: 8412 | H101: 時間 | J101: FALSE | K101: =IF(J101=TRUE,COUNTIF(J$3:J101,TRUE),0) -> 0 | L101: =IF(K101>0,C101,"")
C102: 加圧釜 | D102: 2420 | E102: 6413 | F102: =ROUNDDOWN(D102/2,-1) -> 1210 | G102: 8413 | H102: 時間 | J102: FALSE | K102: =IF(J102=TRUE,COUNTIF(J$3:J102,TRUE),0) -> 0 | L102: =IF(K102>0,C102,"")
C103: 食品加工機器 | K103: =IF(J103=TRUE,COUNTIF(J$3:J103,TRUE),0) -> 0 | L103: =IF(K103>0,C103,"")
C104: 試験用精米機 | D104: 770 | E104: 6501 | F104: =ROUNDDOWN(D104/2,-1) -> 380 | G104: 8501 | H104: 時間 | J104: FALSE | K104: =IF(J104=TRUE,COUNTIF(J$3:J104,TRUE),0) -> 0 | L104: =IF(K104>0,C104,"")
C105: 蒸米機 | D105: 990 | E105: 6502 | F105: =ROUNDDOWN(D105/2,-1) -> 490 | G105: 8502 | H105: 時間 | J105: FALSE | K105: =IF(J105=TRUE,COUNTIF(J$3:J105,TRUE),0) -> 0 | L105: =IF(K105>0,C105,"")
...

Sheet 作成方法(管理者用）
A2: 【チェックリスト】
A3: ①手数料使用料管理一覧のリストを作成し、一覧シートへコピー
A4: ②コード、５０％減免単価、単位を追加
A5: ③非表示列を再表示
A6: ④ファイル⇒オプション⇒リボンのユーザー設定⇒開発に✔
A7: ⑤挿入したい場所で、開発タブの挿入⇒チェックボックスを選択
A8: ⑥チェックボックス横の文字を削除
A9: ⑦チェックボックスを選択したまま、図形の書式タブ⇒配置⇒枠線に合わせる
A10: ⇒枠線を動かすとセルの枠線に容易に合わせることができる
A11: ⑧チェックボックスを選択したまま右クリック⇒コントロールの書式設定⇒チェックボックスの右隣のセルをクリック
A12: ⇒チェックボックスに連動して「TRUE」「FALSE」を表示するようになる。
A13: ※チェックボックスを入力したセルをコピーする場合は、⑦を行う前にコピーする。（連動するセルを指定した後ではコピー元の✔の有無に連動する。）
... A19: ③
A36: ④ | M36: ⑤
A56: ⑥
A73: ⑦
A92: ⑧
A115: ⑨
A132: その他

Sheet プルダウン用シート
A1: 減免率 | C1: 担当者 | D1: グループ | F1: 数字 | I1: バージョン情報 | J1: ver8（R8.10.1）
A2: 0 | C2: 石川 | D2: 新ビジネス支援
A3: 0.5 | C3: 岡田 | D3: 新ビジネス支援 | F3: 0
A4: 1 | C4: 山屋 | D4: 新ビジネス支援 | F4: 1 | G4: 1
C5: 関谷 | D5: 新ビジネス支援 | F5: 2 | G5: 2
C6: 青木 | D6: IT・マテリアル | F6: 3 | G6: 3
C7: 浅野 | D7: IT・マテリアル | F7: 4
C8: 西本 | D8: IT・マテリアル | F8: 5 | G8: 4
C9: 上田 | D9: IT・マテリアル | F9: 6 | G9: 5
C10: 前島 | D10: IT・マテリアル | F10: 7 | G10: 6
C11: 岡田 | D11: IT・マテリアル | F11: 8 | G11: 7
C12: 石川(卓) | D12: IT・マテリアル | F12: 9 | G12: 8
C13: 中山 | D13: IT・マテリアル | F13: 10 | G13: 9
C14: 富田 | D14: IT・マテリアル | F14: 11 | G14: 10
C15: 廣嶌 | D15: IT・マテリアル | F15: 12 | G15: 11
C16: 勝山 | D16: IT・マテリアル | F16: 13 | G16: 12
C17: 中村 | D17: IT・マテリアル | F17: 14
C18: 平山 | D18: IT・マテリアル | F18: 15
C19: 堀内 | D19: IT・マテリアル | F19: 16
C20: 沖島 | D20: IT・マテリアル | F20: 17
C21: 楯 | D21: IT・マテリアル | F21: 18
C22: 吉浦 | D22: フード・ケミカル | F22: 19
C23: 磯(智) | D23: フード・ケミカル | F23: 20
C24: 浅野 | D24: フード・ケミカル | F24: 21
C25: 飛田 | D25: フード・ケミカル | F25: 22
C26: 久保 | D26: フード・ケミカル | F26: 23
C27: 岩佐 | D27: フード・ケミカル | F27: 24
C28: 櫻井 | D28: フード・ケミカル | F28: 25
... C35: 澤畠 | D35: フード・ケミカル | F35: 32
F36: 33
F37: 34
F38: 35
F39: 36
F40: 37
F41: 38
F42: 39
F43: 40
F44: 41
F45: 42
F46: 43
F47: 44
... F1003: 1000
